BEGIN:VCALENDAR
VERSION:2.0
PRODID:-//Horton and Chalbury Village Hall - ECPv6.11.2//NONSGML v1.0//EN
CALSCALE:GREGORIAN
METHOD:PUBLISH
X-WR-CALNAME:Horton and Chalbury Village Hall
X-ORIGINAL-URL:https://hortonandchalburyvillagehall.com
X-WR-CALDESC:Events for Horton and Chalbury Village Hall
REFRESH-INTERVAL;VALUE=DURATION:PT1H
X-Robots-Tag:noindex
X-PUBLISHED-TTL:PT1H
BEGIN:VTIMEZONE
TZID:Europe/London
BEGIN:DAYLIGHT
TZOFFSETFROM:+0000
TZOFFSETTO:+0100
TZNAME:BST
DTSTART:20250330T010000
END:DAYLIGHT
BEGIN:STANDARD
TZOFFSETFROM:+0100
TZOFFSETTO:+0000
TZNAME:GMT
DTSTART:20251026T010000
END:STANDARD
END:VTIMEZONE
BEGIN:VEVENT
DTSTART;TZID=Europe/London:20250401T100000
DTEND;TZID=Europe/London:20250401T110000
DTSTAMP:20260420T152252
CREATED:20250211T183548Z
LAST-MODIFIED:20250211T183548Z
UID:7333-1743501600-1743505200@hortonandchalburyvillagehall.com
SUMMARY:Pilates with Janet
DESCRIPTION:Mixed ability Pilates session. Qualified Pilates instructor. \nPlease bring your own mat. \nFor bookings please contact Janet on 07872 621082 or email janettobin444@gmail.com
URL:https://hortonandchalburyvillagehall.com/event/pilates-with-janet-11/
LOCATION:Horton and Chalbury Village Hall\, The Horton and Chalbury Village Hall\, Horton\, Wimborne\, Dorset\, BH21 7JA\, United Kingdom
CATEGORIES:Health and Wellbeing
ATTACH;FMTTYPE=image/jpeg:https://hortonandchalburyvillagehall.com/wp-content/uploads/image0.jpeg
ORGANIZER;CN="Janet Tobin":MAILTO:janettobin444@gmail.com
END:VEVENT
BEGIN:VEVENT
DTSTART;TZID=Europe/London:20250407T173000
DTEND;TZID=Europe/London:20250407T183000
DTSTAMP:20260420T152252
CREATED:20190121T161630Z
LAST-MODIFIED:20250106T204857Z
UID:6078-1744047000-1744050600@hortonandchalburyvillagehall.com
SUMMARY:Pilates with Zane Eglite
DESCRIPTION:Pilates builds strength and endurance through the entire body. It also improves posture\, coordination\, flexibility and balance. The focus is on developing a strong core – not just in the abdominal muscle together with deep stabilisers of the spine and pelvis.  \nFor booking please contact Zane 07730380471 or zane.pilates@gmail.com  \nwww.pilatesdorset.com (Private sessions available)
URL:https://hortonandchalburyvillagehall.com/event/pilates-with-zane-eglite-3-2019-01-28-2025-04-07/
LOCATION:Horton and Chalbury Village Hall\, The Horton and Chalbury Village Hall\, Horton\, Wimborne\, Dorset\, BH21 7JA\, United Kingdom
ATTACH;FMTTYPE=image/jpeg:https://hortonandchalburyvillagehall.com/wp-content/uploads/2016/11/pilates.jpg
ORGANIZER;CN="Zane Eglite":MAILTO:zane.pilates@gmail.com
END:VEVENT
BEGIN:VEVENT
DTSTART;TZID=Europe/London:20250408T100000
DTEND;TZID=Europe/London:20250408T110000
DTSTAMP:20260420T152252
CREATED:20250211T183910Z
LAST-MODIFIED:20250211T183910Z
UID:7335-1744106400-1744110000@hortonandchalburyvillagehall.com
SUMMARY:Pilates with Janet
DESCRIPTION:Mixed ability Pilates session. Qualified Pilates instructor. \nPlease bring your own mat. \nFor bookings please contact Janet on 07872 621082 or email janettobin444@gmail.com
URL:https://hortonandchalburyvillagehall.com/event/pilates-with-janet-12/
LOCATION:Horton and Chalbury Village Hall\, The Horton and Chalbury Village Hall\, Horton\, Wimborne\, Dorset\, BH21 7JA\, United Kingdom
CATEGORIES:Health and Wellbeing
ATTACH;FMTTYPE=image/jpeg:https://hortonandchalburyvillagehall.com/wp-content/uploads/image0.jpeg
ORGANIZER;CN="Janet Tobin":MAILTO:janettobin444@gmail.com
END:VEVENT
BEGIN:VEVENT
DTSTART;TZID=Europe/London:20250409T190000
DTEND;TZID=Europe/London:20250409T203000
DTSTAMP:20260420T152252
CREATED:20250216T163614Z
LAST-MODIFIED:20250216T163614Z
UID:7344-1744225200-1744230600@hortonandchalburyvillagehall.com
SUMMARY:Mindful Equanimity - Mindfulness & Wellbeing Evening
DESCRIPTION:Tel: 07959 820744 \ninfo@mindfulequanimity.co.uk
URL:https://hortonandchalburyvillagehall.com/event/mindful-equanimity-mindfulness-wellbeing-evening/
LOCATION:Horton and Chalbury Village Hall\, The Horton and Chalbury Village Hall\, Horton\, Wimborne\, Dorset\, BH21 7JA\, United Kingdom
CATEGORIES:Health and Wellbeing
ATTACH;FMTTYPE=image/png:https://hortonandchalburyvillagehall.com/wp-content/uploads/Horton-Wednesdays.png
END:VEVENT
BEGIN:VEVENT
DTSTART;TZID=Europe/London:20250414T173000
DTEND;TZID=Europe/London:20250414T183000
DTSTAMP:20260420T152252
CREATED:20190121T161630Z
LAST-MODIFIED:20250106T205001Z
UID:6086-1744651800-1744655400@hortonandchalburyvillagehall.com
SUMMARY:Pilates with Zane Eglite
DESCRIPTION:Pilates builds strength and endurance through the entire body. It also improves posture\, coordination\, flexibility and balance. The focus is on developing a strong core – not just in the abdominal muscle together with deep stabilisers of the spine and pelvis.  \nFor booking please contact Zane 07730380471 or zane.pilates@gmail.com  \nwww.pilatesdorset.com (Private sessions available)
URL:https://hortonandchalburyvillagehall.com/event/pilates-with-zane-eglite-3-2019-01-28-2025-04-14/
LOCATION:Horton and Chalbury Village Hall\, The Horton and Chalbury Village Hall\, Horton\, Wimborne\, Dorset\, BH21 7JA\, United Kingdom
ATTACH;FMTTYPE=image/jpeg:https://hortonandchalburyvillagehall.com/wp-content/uploads/2016/11/pilates.jpg
ORGANIZER;CN="Zane Eglite":MAILTO:zane.pilates@gmail.com
END:VEVENT
BEGIN:VEVENT
DTSTART;TZID=Europe/London:20250415T100000
DTEND;TZID=Europe/London:20250415T110000
DTSTAMP:20260420T152252
CREATED:20250211T184102Z
LAST-MODIFIED:20250211T184102Z
UID:7337-1744711200-1744714800@hortonandchalburyvillagehall.com
SUMMARY:Pilates with Janet
DESCRIPTION:Mixed ability Pilates session. Qualified Pilates instructor. \nPlease bring your own mat. \nFor bookings please contact Janet on 07872 621082 or email janettobin444@gmail.com
URL:https://hortonandchalburyvillagehall.com/event/pilates-with-janet-13/
LOCATION:Horton and Chalbury Village Hall\, The Horton and Chalbury Village Hall\, Horton\, Wimborne\, Dorset\, BH21 7JA\, United Kingdom
CATEGORIES:Health and Wellbeing
ATTACH;FMTTYPE=image/jpeg:https://hortonandchalburyvillagehall.com/wp-content/uploads/image0.jpeg
ORGANIZER;CN="Janet Tobin":MAILTO:janettobin444@gmail.com
END:VEVENT
BEGIN:VEVENT
DTSTART;TZID=Europe/London:20250421T173000
DTEND;TZID=Europe/London:20250421T183000
DTSTAMP:20260420T152253
CREATED:20161122T202059Z
LAST-MODIFIED:20250106T205115Z
UID:6089-1745256600-1745260200@hortonandchalburyvillagehall.com
SUMMARY:Pilates with Zane Eglite
DESCRIPTION:Pilates builds strength and endurance through the entire body. It also improves posture\, coordination\, flexibility and balance. The focus is on developing a strong core – not just in the abdominal muscle together with deep stabilisers of the spine and pelvis.  \nFor booking please contact Zane 07730380471 or zane.pilates@gmail.com  \nwww.pilatesdorset.com (Private sessions available) \n 
URL:https://hortonandchalburyvillagehall.com/event/pilates-with-zane-eglite-2019-01-21-2019-01-28-2025-04-21/
LOCATION:Horton and Chalbury Village Hall\, The Horton and Chalbury Village Hall\, Horton\, Wimborne\, Dorset\, BH21 7JA\, United Kingdom
CATEGORIES:Health and Wellbeing
ATTACH;FMTTYPE=image/jpeg:https://hortonandchalburyvillagehall.com/wp-content/uploads/2016/11/pilates.jpg
ORGANIZER;CN="Zane Eglite":MAILTO:zane.pilates@gmail.com
END:VEVENT
BEGIN:VEVENT
DTSTART;TZID=Europe/London:20250422T100000
DTEND;TZID=Europe/London:20250422T110000
DTSTAMP:20260420T152253
CREATED:20250211T184239Z
LAST-MODIFIED:20250211T184239Z
UID:7339-1745316000-1745319600@hortonandchalburyvillagehall.com
SUMMARY:Pilates with Janet
DESCRIPTION:Mixed ability Pilates session. Qualified Pilates instructor. \nPlease bring your own mat. \nFor bookings please contact Janet on 07872 621082 or email janettobin444@gmail.com
URL:https://hortonandchalburyvillagehall.com/event/pilates-with-janet-14/
LOCATION:Horton and Chalbury Village Hall\, The Horton and Chalbury Village Hall\, Horton\, Wimborne\, Dorset\, BH21 7JA\, United Kingdom
CATEGORIES:Health and Wellbeing
ATTACH;FMTTYPE=image/jpeg:https://hortonandchalburyvillagehall.com/wp-content/uploads/image0.jpeg
ORGANIZER;CN="Janet Tobin":MAILTO:janettobin444@gmail.com
END:VEVENT
BEGIN:VEVENT
DTSTART;TZID=Europe/London:20250425T190000
DTEND;TZID=Europe/London:20250425T220000
DTSTAMP:20260420T152253
CREATED:20240129T154131Z
LAST-MODIFIED:20241022T070955Z
UID:6347-1745607600-1745618400@hortonandchalburyvillagehall.com
SUMMARY:Pop up Pub
DESCRIPTION:FREE OF CHARGE \nBring your own bottle(s)! \nFAMILIES MORE THAN WELCOME\, THE MORE THE MERRIER! \nA friendly social evening to meet neighbours\, drink\, chat\, listen to music and play games in a friendly and relaxed atmosphere with the great views the hall offers. \n7pm – 10pm \nMusic\, pool\, table tennis\, badminton\, ball games and board games. \nFree tea and coffee available.
URL:https://hortonandchalburyvillagehall.com/event/pop-up-pub-13-2025-02-21/
LOCATION:Horton and Chalbury Village Hall\, The Horton and Chalbury Village Hall\, Horton\, Wimborne\, Dorset\, BH21 7JA\, United Kingdom
CATEGORIES:Community
ATTACH;FMTTYPE=image/jpeg:https://hortonandchalburyvillagehall.com/wp-content/uploads/Copy-of-Pop-Up-BYOB-Pub-Flyer.jpeg
END:VEVENT
BEGIN:VEVENT
DTSTART;TZID=Europe/London:20250427T100000
DTEND;TZID=Europe/London:20250427T160000
DTSTAMP:20260420T152253
CREATED:20250411T172111Z
LAST-MODIFIED:20250411T172111Z
UID:7455-1745748000-1745769600@hortonandchalburyvillagehall.com
SUMMARY:Silent Mindfulness Retreat Day & Sound Bath
DESCRIPTION:A day of silent meditation\, movement\, walking. relaxation and connection with self and others. \nFurther information and booking https://mindfulequanimity.co.uk/retreats/ \n 
URL:https://hortonandchalburyvillagehall.com/event/silent-mindfulness-retreat-day-sound-bath/
LOCATION:Horton & Chalbury Village Hall – Main Hall\, Horton Road\, Horton\, Dorset\, BH21 7JA\, United Kingdom
CATEGORIES:Health and Wellbeing
ATTACH;FMTTYPE=image/png:https://hortonandchalburyvillagehall.com/wp-content/uploads/Silent-Retreat-April-25.png
END:VEVENT
BEGIN:VEVENT
DTSTART;TZID=Europe/London:20250428T173000
DTEND;TZID=Europe/London:20250428T183000
DTSTAMP:20260420T152253
CREATED:20161122T202059Z
LAST-MODIFIED:20250106T205218Z
UID:6092-1745861400-1745865000@hortonandchalburyvillagehall.com
SUMMARY:Pilates with Zane Eglite
DESCRIPTION:Pilates builds strength and endurance through the entire body. It also improves posture\, coordination\, flexibility and balance. The focus is on developing a strong core – not just in the abdominal muscle together with deep stabilisers of the spine and pelvis.  \nFor booking please contact Zane 07730380471 or zane.pilates@gmail.com  \nwww.pilatesdorset.com (Private sessions available) \n 
URL:https://hortonandchalburyvillagehall.com/event/pilates-with-zane-eglite-2019-01-21-2019-01-28-2025-04-28/
LOCATION:Horton and Chalbury Village Hall\, The Horton and Chalbury Village Hall\, Horton\, Wimborne\, Dorset\, BH21 7JA\, United Kingdom
CATEGORIES:Health and Wellbeing
ATTACH;FMTTYPE=image/jpeg:https://hortonandchalburyvillagehall.com/wp-content/uploads/2016/11/pilates.jpg
ORGANIZER;CN="Zane Eglite":MAILTO:zane.pilates@gmail.com
END:VEVENT
BEGIN:VEVENT
DTSTART;TZID=Europe/London:20250429T100000
DTEND;TZID=Europe/London:20250429T110000
DTSTAMP:20260420T152253
CREATED:20250211T184343Z
LAST-MODIFIED:20250211T184343Z
UID:7341-1745920800-1745924400@hortonandchalburyvillagehall.com
SUMMARY:Pilates with Janet
DESCRIPTION:Mixed ability Pilates session. Qualified Pilates instructor. \nPlease bring your own mat. \nFor bookings please contact Janet on 07872 621082 or email janettobin444@gmail.com
URL:https://hortonandchalburyvillagehall.com/event/pilates-with-janet-15/
LOCATION:Horton and Chalbury Village Hall\, The Horton and Chalbury Village Hall\, Horton\, Wimborne\, Dorset\, BH21 7JA\, United Kingdom
CATEGORIES:Health and Wellbeing
ATTACH;FMTTYPE=image/jpeg:https://hortonandchalburyvillagehall.com/wp-content/uploads/image0.jpeg
ORGANIZER;CN="Janet Tobin":MAILTO:janettobin444@gmail.com
END:VEVENT
END:VCALENDAR