BEGIN:VCALENDAR
VERSION:2.0
PRODID:-//Horton and Chalbury Village Hall - ECPv6.11.2//NONSGML v1.0//EN
CALSCALE:GREGORIAN
METHOD:PUBLISH
X-WR-CALNAME:Horton and Chalbury Village Hall
X-ORIGINAL-URL:https://hortonandchalburyvillagehall.com
X-WR-CALDESC:Events for Horton and Chalbury Village Hall
REFRESH-INTERVAL;VALUE=DURATION:PT1H
X-Robots-Tag:noindex
X-PUBLISHED-TTL:PT1H
BEGIN:VTIMEZONE
TZID:Europe/London
BEGIN:DAYLIGHT
TZOFFSETFROM:+0000
TZOFFSETTO:+0100
TZNAME:BST
DTSTART:20160327T010000
END:DAYLIGHT
BEGIN:STANDARD
TZOFFSETFROM:+0100
TZOFFSETTO:+0000
TZNAME:GMT
DTSTART:20161030T010000
END:STANDARD
BEGIN:DAYLIGHT
TZOFFSETFROM:+0000
TZOFFSETTO:+0100
TZNAME:BST
DTSTART:20170326T010000
END:DAYLIGHT
BEGIN:STANDARD
TZOFFSETFROM:+0100
TZOFFSETTO:+0000
TZNAME:GMT
DTSTART:20171029T010000
END:STANDARD
END:VTIMEZONE
BEGIN:VTIMEZONE
TZID:UTC
BEGIN:STANDARD
TZOFFSETFROM:+0000
TZOFFSETTO:+0000
TZNAME:UTC
DTSTART:20160101T000000
END:STANDARD
END:VTIMEZONE
BEGIN:VEVENT
DTSTART;TZID=Europe/London:20170129T143000
DTEND;TZID=Europe/London:20170129T163000
DTSTAMP:20260421T004028
CREATED:20161208T104519Z
LAST-MODIFIED:20161211T232840Z
UID:2164-1485700200-1485707400@hortonandchalburyvillagehall.com
SUMMARY:'Dorset My Dorset' A Talk By Bonny Sartin
DESCRIPTION:Bonny is a member of the ‘Yetties’ folk group\, founded as schoolboys with friends from the Dorset village of Yetminster. Turning professional in 1967 the band enjoyed world wide success\, only retiring in April 2011.  There final gig was\, appropriately\,  in Sherborne.  \nBonny is an accomplished speaker\, singer and natural entertainer and delights audiences with stories and anecdotes that he has collected.  \nThe Yetties are one of England’s most popular folk groups. Their obvious love of the West Country\, it’s songs\, stories and humour wins them friends wherever they go. \nSince turning professional in 1967 their music and their enthusiasm has taken them far beyond the villages of Dorset. They have travelled extensively in Europe and\, under the auspices of the British Council\, have performed successfully worldwide.  \nThey have recorded no less than 45 albums for different companies.  \nThey have had a regular series on BBC Radio 2 called ‘Cider & Song’ and have numerous other Radio and TV appearances to their credit. They possible the only performers to have worked on BBC Radios 1\, 2\, 3\, 4 and 5. \nYour Ticket will include a delicious afternoon tea. \n 
URL:https://hortonandchalburyvillagehall.com/event/dorset-dorset-talk-bonny-sartin/
LOCATION:Horton and Chalbury Village Hall\, The Horton and Chalbury Village Hall\, Horton\, Wimborne\, Dorset\, BH21 7JA\, United Kingdom
CATEGORIES:Outreach,Stick to homepage
ATTACH;FMTTYPE=image/jpeg:https://hortonandchalburyvillagehall.com/wp-content/uploads/2016/12/Bonny-Sartin.jpg
ORGANIZER;CN="Pat Arthur":MAILTO:pat.arthur@me.com
END:VEVENT
BEGIN:VEVENT
DTSTART;TZID=Europe/London:20170115T090000
DTEND;TZID=Europe/London:20170115T100000
DTSTAMP:20260421T004028
CREATED:20160613T210204Z
LAST-MODIFIED:20161122T195704Z
UID:1714-1484470800-1484474400@hortonandchalburyvillagehall.com
SUMMARY:Breakfast Church
DESCRIPTION:Join us for a full English Breakfast at 9am followed by a time of worship and reflection.
URL:https://hortonandchalburyvillagehall.com/event/1479-2017-01-15/
LOCATION:Horton Church\, Horton\, BH21 7JA\, United Kingdom
CATEGORIES:Church,Community,Food
ATTACH;FMTTYPE=image/jpeg:https://hortonandchalburyvillagehall.com/wp-content/uploads/2016/06/Breakfast-church.jpg
END:VEVENT
BEGIN:VEVENT
DTSTART;TZID=UTC:20161002T143000
DTEND;TZID=UTC:20161002T163000
DTSTAMP:20260421T004028
CREATED:20160613T213329Z
LAST-MODIFIED:20170509T123406Z
UID:1735-1475418600-1475425800@hortonandchalburyvillagehall.com
SUMMARY:Cream Teas
DESCRIPTION:Come and enjoy a cream tea\, homemade cakes and sandwiches in a beautiful country setting with views of Horton Tower.
URL:https://hortonandchalburyvillagehall.com/event/cream-teas-august-2016-2016-10-02/
LOCATION:Horton and Chalbury Village Hall\, The Horton and Chalbury Village Hall\, Horton\, Wimborne\, Dorset\, BH21 7JA\, United Kingdom
CATEGORIES:Community,Food
ATTACH;FMTTYPE=image/jpeg:https://hortonandchalburyvillagehall.com/wp-content/uploads/2015/09/cream-tea.jpg
ORGANIZER;CN="Horton and Chalbury Village Hall Committee":MAILTO:info@hortonandchalburyvillagehall.com
END:VEVENT
BEGIN:VEVENT
DTSTART;TZID=UTC:20160829T143000
DTEND;TZID=UTC:20160829T163000
DTSTAMP:20260421T004028
CREATED:20160613T213329Z
LAST-MODIFIED:20160802T203456Z
UID:1734-1472481000-1472488200@hortonandchalburyvillagehall.com
SUMMARY:Cream Teas
DESCRIPTION:Come and enjoy a cream tea\, homemade cakes and sandwiches in a beautiful country setting with views of Horton Tower.
URL:https://hortonandchalburyvillagehall.com/event/cream-teas-august-2016-2016-09-04/
LOCATION:Horton and Chalbury Village Hall\, The Horton and Chalbury Village Hall\, Horton\, Wimborne\, Dorset\, BH21 7JA\, United Kingdom
CATEGORIES:Community,Food
ATTACH;FMTTYPE=image/jpeg:https://hortonandchalburyvillagehall.com/wp-content/uploads/2015/09/cream-tea.jpg
ORGANIZER;CN="Horton and Chalbury Village Hall Committee":MAILTO:info@hortonandchalburyvillagehall.com
END:VEVENT
BEGIN:VEVENT
DTSTART;TZID=UTC:20160807T143000
DTEND;TZID=UTC:20160807T163000
DTSTAMP:20260421T004028
CREATED:20160613T213329Z
LAST-MODIFIED:20160720T221202Z
UID:1485-1470580200-1470587400@hortonandchalburyvillagehall.com
SUMMARY:Cream Teas
DESCRIPTION:Come and enjoy a cream tea\, homemade cakes and sandwiches in a beautiful country setting with views of Horton Tower.
URL:https://hortonandchalburyvillagehall.com/event/cream-teas-august-2016/
LOCATION:Horton and Chalbury Village Hall\, The Horton and Chalbury Village Hall\, Horton\, Wimborne\, Dorset\, BH21 7JA\, United Kingdom
CATEGORIES:Community,Food
ATTACH;FMTTYPE=image/jpeg:https://hortonandchalburyvillagehall.com/wp-content/uploads/2015/09/cream-tea.jpg
ORGANIZER;CN="Horton and Chalbury Village Hall Committee":MAILTO:info@hortonandchalburyvillagehall.com
END:VEVENT
BEGIN:VEVENT
DTSTART;TZID=Europe/London:20160717T090000
DTEND;TZID=Europe/London:20160717T100000
DTSTAMP:20260421T004028
CREATED:20160613T210204Z
LAST-MODIFIED:20160720T220003Z
UID:1479-1468746000-1468749600@hortonandchalburyvillagehall.com
SUMMARY:Breakfast Church
DESCRIPTION:Join us for a full English Breakfast at 9am followed by a time of worship and reflection.
URL:https://hortonandchalburyvillagehall.com/event/1479/
LOCATION:Horton and Chalbury Village Hall\, The Horton and Chalbury Village Hall\, Horton\, Wimborne\, Dorset\, BH21 7JA\, United Kingdom
CATEGORIES:Church,Community,Food
ATTACH;FMTTYPE=image/jpeg:https://hortonandchalburyvillagehall.com/wp-content/uploads/2016/06/Breakfast-church.jpg
END:VEVENT
BEGIN:VEVENT
DTSTART;TZID=Europe/London:20160709T120000
DTEND;TZID=Europe/London:20160709T170000
DTSTAMP:20260421T004028
CREATED:20160613T211432Z
LAST-MODIFIED:20160613T212952Z
UID:1481-1468065600-1468083600@hortonandchalburyvillagehall.com
SUMMARY:Horton & Chalbury Village Fete
DESCRIPTION:Bottle Stall | Books | Games | Plants | Arts & Crafts | Bric-a-Brac \nReal Ale | Tombola | Dancing | Fresh Local Produce | Homemade Cakes \nRaffle | BBQ | Live Music and Entertainment | Fun for Kids \nAdmission: Adults £2 Children Free \nFree Car Parking
URL:https://hortonandchalburyvillagehall.com/event/horton-and-chalbury-village-fete/
LOCATION:Horton and Chalbury Village Hall\, The Horton and Chalbury Village Hall\, Horton\, Wimborne\, Dorset\, BH21 7JA\, United Kingdom
CATEGORIES:Community,Food
ATTACH;FMTTYPE=image/jpeg:https://hortonandchalburyvillagehall.com/wp-content/uploads/2016/06/Village-Fete-1.jpg
ORGANIZER;CN="Lara Hedman":MAILTO:lara@workingvoices.com
END:VEVENT
END:VCALENDAR