BEGIN:VCALENDAR
VERSION:2.0
PRODID:-//Horton and Chalbury Village Hall - ECPv6.11.2//NONSGML v1.0//EN
CALSCALE:GREGORIAN
METHOD:PUBLISH
X-WR-CALNAME:Horton and Chalbury Village Hall
X-ORIGINAL-URL:https://hortonandchalburyvillagehall.com
X-WR-CALDESC:Events for Horton and Chalbury Village Hall
REFRESH-INTERVAL;VALUE=DURATION:PT1H
X-Robots-Tag:noindex
X-PUBLISHED-TTL:PT1H
BEGIN:VTIMEZONE
TZID:Europe/London
BEGIN:DAYLIGHT
TZOFFSETFROM:+0000
TZOFFSETTO:+0100
TZNAME:BST
DTSTART:20220327T010000
END:DAYLIGHT
BEGIN:STANDARD
TZOFFSETFROM:+0100
TZOFFSETTO:+0000
TZNAME:GMT
DTSTART:20221030T010000
END:STANDARD
BEGIN:DAYLIGHT
TZOFFSETFROM:+0000
TZOFFSETTO:+0100
TZNAME:BST
DTSTART:20230326T010000
END:DAYLIGHT
BEGIN:STANDARD
TZOFFSETFROM:+0100
TZOFFSETTO:+0000
TZNAME:GMT
DTSTART:20231029T010000
END:STANDARD
END:VTIMEZONE
BEGIN:VEVENT
DTSTART;TZID=Europe/London:20230714T190000
DTEND;TZID=Europe/London:20230714T220000
DTSTAMP:20260426T053630
CREATED:20230118T124036Z
LAST-MODIFIED:20230118T124036Z
UID:5922-1689361200-1689372000@hortonandchalburyvillagehall.com
SUMMARY:Pop up Pub
DESCRIPTION:FREE OF CHARGE \nBring your own bottle(s)! \nFAMILIES MORE THAN WELCOME\, THE MORE THE MERRIER! \nA friendly social evening to meet neighbours\, drink\, chat\, listen to music and play games in a friendly and relaxed atmosphere with the great views the hall offers. \n6pm – 10pm \nMusic\, pool\, table tennis\, badminton\, ball games and board games. \nFree tea and coffee available.
URL:https://hortonandchalburyvillagehall.com/event/pop-up-pub-9-2023-07-14/
LOCATION:Horton and Chalbury Village Hall\, The Horton and Chalbury Village Hall\, Horton\, Wimborne\, Dorset\, BH21 7JA\, United Kingdom
CATEGORIES:Community
ATTACH;FMTTYPE=image/jpeg:https://hortonandchalburyvillagehall.com/wp-content/uploads/Beer-inage.jpg
END:VEVENT
BEGIN:VEVENT
DTSTART;TZID=Europe/London:20230702T143000
DTEND;TZID=Europe/London:20230702T163000
DTSTAMP:20260426T053630
CREATED:20230315T085703Z
LAST-MODIFIED:20230315T085703Z
UID:6037-1688308200-1688315400@hortonandchalburyvillagehall.com
SUMMARY:Cream Teas
DESCRIPTION:Come and enjoy a cream tea\, homemade cakes and sandwiches in a beautiful country setting with views of Horton Tower.
URL:https://hortonandchalburyvillagehall.com/event/cream-teas-14/
LOCATION:Horton and Chalbury Village Hall\, The Horton and Chalbury Village Hall\, Horton\, Wimborne\, Dorset\, BH21 7JA\, United Kingdom
CATEGORIES:Community,Food
ATTACH;FMTTYPE=image/jpeg:https://hortonandchalburyvillagehall.com/wp-content/uploads/New-cream-tea-image.jpg
END:VEVENT
BEGIN:VEVENT
DTSTART;TZID=Europe/London:20230630T190000
DTEND;TZID=Europe/London:20230630T220000
DTSTAMP:20260426T053630
CREATED:20230118T124034Z
LAST-MODIFIED:20230118T124034Z
UID:5921-1688151600-1688162400@hortonandchalburyvillagehall.com
SUMMARY:Pop up Pub
DESCRIPTION:FREE OF CHARGE \nBring your own bottle(s)! \nFAMILIES MORE THAN WELCOME\, THE MORE THE MERRIER! \nA friendly social evening to meet neighbours\, drink\, chat\, listen to music and play games in a friendly and relaxed atmosphere with the great views the hall offers. \n6pm – 10pm \nMusic\, pool\, table tennis\, badminton\, ball games and board games. \nFree tea and coffee available.
URL:https://hortonandchalburyvillagehall.com/event/pop-up-pub-9-2023-06-30/
LOCATION:Horton and Chalbury Village Hall\, The Horton and Chalbury Village Hall\, Horton\, Wimborne\, Dorset\, BH21 7JA\, United Kingdom
CATEGORIES:Community
ATTACH;FMTTYPE=image/jpeg:https://hortonandchalburyvillagehall.com/wp-content/uploads/Beer-inage.jpg
END:VEVENT
BEGIN:VEVENT
DTSTART;TZID=Europe/London:20230618T090000
DTEND;TZID=Europe/London:20230618T100000
DTSTAMP:20260426T053630
CREATED:20160613T210204Z
LAST-MODIFIED:20160613T210204Z
UID:4948-1687078800-1687082400@hortonandchalburyvillagehall.com
SUMMARY:Breakfast Church
DESCRIPTION:Join us for a full English Breakfast at 9am followed by a time of worship and reflection.
URL:https://hortonandchalburyvillagehall.com/event/1479-2023-06-18/
LOCATION:Horton and Chalbury Village Hall\, The Horton and Chalbury Village Hall\, Horton\, Wimborne\, Dorset\, BH21 7JA\, United Kingdom
CATEGORIES:Church,Community,Food
ATTACH;FMTTYPE=image/jpeg:https://hortonandchalburyvillagehall.com/wp-content/uploads/2016/06/Breakfast-church.jpg
END:VEVENT
BEGIN:VEVENT
DTSTART;TZID=Europe/London:20230529T143000
DTEND;TZID=Europe/London:20230529T163000
DTSTAMP:20260426T053630
CREATED:20220803T141636Z
LAST-MODIFIED:20220803T141636Z
UID:5751-1685370600-1685377800@hortonandchalburyvillagehall.com
SUMMARY:Cream Teas
DESCRIPTION:Come and enjoy a cream tea\, homemade cakes and sandwiches in a beautiful country setting with views of Horton Tower.
URL:https://hortonandchalburyvillagehall.com/event/cream-teas-9/
LOCATION:Horton and Chalbury Village Hall\, The Horton and Chalbury Village Hall\, Horton\, Wimborne\, Dorset\, BH21 7JA\, United Kingdom
CATEGORIES:Community,Food
ATTACH;FMTTYPE=image/jpeg:https://hortonandchalburyvillagehall.com/wp-content/uploads/New-cream-tea-image.jpg
END:VEVENT
BEGIN:VEVENT
DTSTART;TZID=Europe/London:20230521T090000
DTEND;TZID=Europe/London:20230521T100000
DTSTAMP:20260426T053630
CREATED:20160613T210204Z
LAST-MODIFIED:20160613T210204Z
UID:4935-1684659600-1684663200@hortonandchalburyvillagehall.com
SUMMARY:Breakfast Church
DESCRIPTION:Join us for a full English Breakfast at 9am followed by a time of worship and reflection.
URL:https://hortonandchalburyvillagehall.com/event/1479-2023-05-21/
LOCATION:Horton and Chalbury Village Hall\, The Horton and Chalbury Village Hall\, Horton\, Wimborne\, Dorset\, BH21 7JA\, United Kingdom
CATEGORIES:Church,Community,Food
ATTACH;FMTTYPE=image/jpeg:https://hortonandchalburyvillagehall.com/wp-content/uploads/2016/06/Breakfast-church.jpg
END:VEVENT
BEGIN:VEVENT
DTSTART;TZID=Europe/London:20230519T190000
DTEND;TZID=Europe/London:20230519T220000
DTSTAMP:20260426T053630
CREATED:20230118T124021Z
LAST-MODIFIED:20230118T124021Z
UID:5918-1684522800-1684533600@hortonandchalburyvillagehall.com
SUMMARY:Pop up Pub
DESCRIPTION:FREE OF CHARGE \nBring your own bottle(s)! \nFAMILIES MORE THAN WELCOME\, THE MORE THE MERRIER! \nA friendly social evening to meet neighbours\, drink\, chat\, listen to music and play games in a friendly and relaxed atmosphere with the great views the hall offers. \n6pm – 10pm \nMusic\, pool\, table tennis\, badminton\, ball games and board games. \nFree tea and coffee available.
URL:https://hortonandchalburyvillagehall.com/event/pop-up-pub-9-2023-05-19/
LOCATION:Horton and Chalbury Village Hall\, The Horton and Chalbury Village Hall\, Horton\, Wimborne\, Dorset\, BH21 7JA\, United Kingdom
CATEGORIES:Community
ATTACH;FMTTYPE=image/jpeg:https://hortonandchalburyvillagehall.com/wp-content/uploads/Beer-inage.jpg
END:VEVENT
BEGIN:VEVENT
DTSTART;TZID=Europe/London:20230501T143000
DTEND;TZID=Europe/London:20230501T163000
DTSTAMP:20260426T053630
CREATED:20220803T145205Z
LAST-MODIFIED:20220803T145205Z
UID:5784-1682951400-1682958600@hortonandchalburyvillagehall.com
SUMMARY:Cream Teas
DESCRIPTION:Come and enjoy a cream tea\, homemade cakes and sandwiches in a beautiful country setting with views of Horton Tower.
URL:https://hortonandchalburyvillagehall.com/event/cream-teas-13/
LOCATION:Horton and Chalbury Village Hall\, The Horton and Chalbury Village Hall\, Horton\, Wimborne\, Dorset\, BH21 7JA\, United Kingdom
CATEGORIES:Community,Food
ATTACH;FMTTYPE=image/jpeg:https://hortonandchalburyvillagehall.com/wp-content/uploads/New-cream-tea-image.jpg
END:VEVENT
BEGIN:VEVENT
DTSTART;TZID=Europe/London:20230421T190000
DTEND;TZID=Europe/London:20230421T220000
DTSTAMP:20260426T053630
CREATED:20230118T124017Z
LAST-MODIFIED:20230118T124017Z
UID:5916-1682103600-1682114400@hortonandchalburyvillagehall.com
SUMMARY:Pop up Pub
DESCRIPTION:FREE OF CHARGE \nBring your own bottle(s)! \nFAMILIES MORE THAN WELCOME\, THE MORE THE MERRIER! \nA friendly social evening to meet neighbours\, drink\, chat\, listen to music and play games in a friendly and relaxed atmosphere with the great views the hall offers. \n6pm – 10pm \nMusic\, pool\, table tennis\, badminton\, ball games and board games. \nFree tea and coffee available.
URL:https://hortonandchalburyvillagehall.com/event/pop-up-pub-9-2023-04-21/
LOCATION:Horton and Chalbury Village Hall\, The Horton and Chalbury Village Hall\, Horton\, Wimborne\, Dorset\, BH21 7JA\, United Kingdom
CATEGORIES:Community
ATTACH;FMTTYPE=image/jpeg:https://hortonandchalburyvillagehall.com/wp-content/uploads/Beer-inage.jpg
END:VEVENT
BEGIN:VEVENT
DTSTART;TZID=Europe/London:20230416T090000
DTEND;TZID=Europe/London:20230416T100000
DTSTAMP:20260426T053630
CREATED:20160613T210204Z
LAST-MODIFIED:20160613T210204Z
UID:4914-1681635600-1681639200@hortonandchalburyvillagehall.com
SUMMARY:Breakfast Church
DESCRIPTION:Join us for a full English Breakfast at 9am followed by a time of worship and reflection.
URL:https://hortonandchalburyvillagehall.com/event/1479-2023-04-16/
LOCATION:Horton and Chalbury Village Hall\, The Horton and Chalbury Village Hall\, Horton\, Wimborne\, Dorset\, BH21 7JA\, United Kingdom
CATEGORIES:Church,Community,Food
ATTACH;FMTTYPE=image/jpeg:https://hortonandchalburyvillagehall.com/wp-content/uploads/2016/06/Breakfast-church.jpg
END:VEVENT
BEGIN:VEVENT
DTSTART;TZID=Europe/London:20230410T143000
DTEND;TZID=Europe/London:20230410T163000
DTSTAMP:20260426T053630
CREATED:20220803T141536Z
LAST-MODIFIED:20220803T141536Z
UID:5749-1681137000-1681144200@hortonandchalburyvillagehall.com
SUMMARY:Cream Teas
DESCRIPTION:Come and enjoy a cream tea\, homemade cakes and sandwiches in a beautiful country setting with views of Horton Tower.
URL:https://hortonandchalburyvillagehall.com/event/cream-teas-8/
LOCATION:Horton and Chalbury Village Hall\, The Horton and Chalbury Village Hall\, Horton\, Wimborne\, Dorset\, BH21 7JA\, United Kingdom
CATEGORIES:Community,Food
ATTACH;FMTTYPE=image/jpeg:https://hortonandchalburyvillagehall.com/wp-content/uploads/New-cream-tea-image.jpg
END:VEVENT
BEGIN:VEVENT
DTSTART;TZID=Europe/London:20230324T190000
DTEND;TZID=Europe/London:20230324T220000
DTSTAMP:20260426T053630
CREATED:20230118T124012Z
LAST-MODIFIED:20230118T124012Z
UID:5914-1679684400-1679695200@hortonandchalburyvillagehall.com
SUMMARY:Pop up Pub
DESCRIPTION:FREE OF CHARGE \nBring your own bottle(s)! \nFAMILIES MORE THAN WELCOME\, THE MORE THE MERRIER! \nA friendly social evening to meet neighbours\, drink\, chat\, listen to music and play games in a friendly and relaxed atmosphere with the great views the hall offers. \n6pm – 10pm \nMusic\, pool\, table tennis\, badminton\, ball games and board games. \nFree tea and coffee available.
URL:https://hortonandchalburyvillagehall.com/event/pop-up-pub-9-2023-03-24/
LOCATION:Horton and Chalbury Village Hall\, The Horton and Chalbury Village Hall\, Horton\, Wimborne\, Dorset\, BH21 7JA\, United Kingdom
CATEGORIES:Community
ATTACH;FMTTYPE=image/jpeg:https://hortonandchalburyvillagehall.com/wp-content/uploads/Beer-inage.jpg
END:VEVENT
BEGIN:VEVENT
DTSTART;TZID=Europe/London:20230319T143000
DTEND;TZID=Europe/London:20230319T163000
DTSTAMP:20260426T053630
CREATED:20220803T141328Z
LAST-MODIFIED:20220803T142926Z
UID:5747-1679236200-1679243400@hortonandchalburyvillagehall.com
SUMMARY:Cream Teas
DESCRIPTION:Come and enjoy a cream tea\, homemade cakes and sandwiches in a beautiful country setting with views of Horton Tower.
URL:https://hortonandchalburyvillagehall.com/event/cream-teas-7/
LOCATION:Horton and Chalbury Village Hall\, The Horton and Chalbury Village Hall\, Horton\, Wimborne\, Dorset\, BH21 7JA\, United Kingdom
CATEGORIES:Community,Food
ATTACH;FMTTYPE=image/jpeg:https://hortonandchalburyvillagehall.com/wp-content/uploads/New-cream-tea-image.jpg
END:VEVENT
BEGIN:VEVENT
DTSTART;TZID=Europe/London:20230319T090000
DTEND;TZID=Europe/London:20230319T100000
DTSTAMP:20260426T053630
CREATED:20160613T210204Z
LAST-MODIFIED:20160613T210204Z
UID:4852-1679216400-1679220000@hortonandchalburyvillagehall.com
SUMMARY:Breakfast Church
DESCRIPTION:Join us for a full English Breakfast at 9am followed by a time of worship and reflection.
URL:https://hortonandchalburyvillagehall.com/event/1479-2023-03-19/
LOCATION:Horton and Chalbury Village Hall\, The Horton and Chalbury Village Hall\, Horton\, Wimborne\, Dorset\, BH21 7JA\, United Kingdom
CATEGORIES:Church,Community,Food
ATTACH;FMTTYPE=image/jpeg:https://hortonandchalburyvillagehall.com/wp-content/uploads/2016/06/Breakfast-church.jpg
END:VEVENT
BEGIN:VEVENT
DTSTART;TZID=Europe/London:20230224T190000
DTEND;TZID=Europe/London:20230224T220000
DTSTAMP:20260426T053630
CREATED:20230118T124008Z
LAST-MODIFIED:20230118T124008Z
UID:5912-1677265200-1677276000@hortonandchalburyvillagehall.com
SUMMARY:Pop up Pub
DESCRIPTION:FREE OF CHARGE \nBring your own bottle(s)! \nFAMILIES MORE THAN WELCOME\, THE MORE THE MERRIER! \nA friendly social evening to meet neighbours\, drink\, chat\, listen to music and play games in a friendly and relaxed atmosphere with the great views the hall offers. \n6pm – 10pm \nMusic\, pool\, table tennis\, badminton\, ball games and board games. \nFree tea and coffee available.
URL:https://hortonandchalburyvillagehall.com/event/pop-up-pub-9-2023-02-24/
LOCATION:Horton and Chalbury Village Hall\, The Horton and Chalbury Village Hall\, Horton\, Wimborne\, Dorset\, BH21 7JA\, United Kingdom
CATEGORIES:Community
ATTACH;FMTTYPE=image/jpeg:https://hortonandchalburyvillagehall.com/wp-content/uploads/Beer-inage.jpg
END:VEVENT
BEGIN:VEVENT
DTSTART;TZID=Europe/London:20230219T090000
DTEND;TZID=Europe/London:20230219T100000
DTSTAMP:20260426T053630
CREATED:20160613T210204Z
LAST-MODIFIED:20160613T210204Z
UID:4837-1676797200-1676800800@hortonandchalburyvillagehall.com
SUMMARY:Breakfast Church
DESCRIPTION:Join us for a full English Breakfast at 9am followed by a time of worship and reflection.
URL:https://hortonandchalburyvillagehall.com/event/1479-2023-02-19/
LOCATION:Horton and Chalbury Village Hall\, The Horton and Chalbury Village Hall\, Horton\, Wimborne\, Dorset\, BH21 7JA\, United Kingdom
CATEGORIES:Church,Community,Food
ATTACH;FMTTYPE=image/jpeg:https://hortonandchalburyvillagehall.com/wp-content/uploads/2016/06/Breakfast-church.jpg
END:VEVENT
BEGIN:VEVENT
DTSTART;TZID=Europe/London:20230127T190000
DTEND;TZID=Europe/London:20230127T220000
DTSTAMP:20260426T053630
CREATED:20230118T124004Z
LAST-MODIFIED:20230118T124004Z
UID:5910-1674846000-1674856800@hortonandchalburyvillagehall.com
SUMMARY:Pop up Pub
DESCRIPTION:FREE OF CHARGE \nBring your own bottle(s)! \nFAMILIES MORE THAN WELCOME\, THE MORE THE MERRIER! \nA friendly social evening to meet neighbours\, drink\, chat\, listen to music and play games in a friendly and relaxed atmosphere with the great views the hall offers. \n6pm – 10pm \nMusic\, pool\, table tennis\, badminton\, ball games and board games. \nFree tea and coffee available.
URL:https://hortonandchalburyvillagehall.com/event/pop-up-pub-9-2023-01-27/
LOCATION:Horton and Chalbury Village Hall\, The Horton and Chalbury Village Hall\, Horton\, Wimborne\, Dorset\, BH21 7JA\, United Kingdom
CATEGORIES:Community
ATTACH;FMTTYPE=image/jpeg:https://hortonandchalburyvillagehall.com/wp-content/uploads/Beer-inage.jpg
END:VEVENT
BEGIN:VEVENT
DTSTART;TZID=Europe/London:20230115T090000
DTEND;TZID=Europe/London:20230115T100000
DTSTAMP:20260426T053630
CREATED:20160613T210204Z
LAST-MODIFIED:20160613T210204Z
UID:4821-1673773200-1673776800@hortonandchalburyvillagehall.com
SUMMARY:Breakfast Church
DESCRIPTION:Join us for a full English Breakfast at 9am followed by a time of worship and reflection.
URL:https://hortonandchalburyvillagehall.com/event/1479-2023-01-15/
LOCATION:Horton and Chalbury Village Hall\, The Horton and Chalbury Village Hall\, Horton\, Wimborne\, Dorset\, BH21 7JA\, United Kingdom
CATEGORIES:Church,Community,Food
ATTACH;FMTTYPE=image/jpeg:https://hortonandchalburyvillagehall.com/wp-content/uploads/2016/06/Breakfast-church.jpg
END:VEVENT
BEGIN:VEVENT
DTSTART;TZID=Europe/London:20230113T190000
DTEND;TZID=Europe/London:20230113T220000
DTSTAMP:20260426T053630
CREATED:20230118T124003Z
LAST-MODIFIED:20230118T124003Z
UID:5909-1673636400-1673647200@hortonandchalburyvillagehall.com
SUMMARY:Pop up Pub
DESCRIPTION:FREE OF CHARGE \nBring your own bottle(s)! \nFAMILIES MORE THAN WELCOME\, THE MORE THE MERRIER! \nA friendly social evening to meet neighbours\, drink\, chat\, listen to music and play games in a friendly and relaxed atmosphere with the great views the hall offers. \n6pm – 10pm \nMusic\, pool\, table tennis\, badminton\, ball games and board games. \nFree tea and coffee available.
URL:https://hortonandchalburyvillagehall.com/event/pop-up-pub-9/
LOCATION:Horton and Chalbury Village Hall\, The Horton and Chalbury Village Hall\, Horton\, Wimborne\, Dorset\, BH21 7JA\, United Kingdom
CATEGORIES:Community
ATTACH;FMTTYPE=image/jpeg:https://hortonandchalburyvillagehall.com/wp-content/uploads/Beer-inage.jpg
END:VEVENT
BEGIN:VEVENT
DTSTART;TZID=Europe/London:20221230T180000
DTEND;TZID=Europe/London:20221230T220000
DTSTAMP:20260426T053630
CREATED:20220621T103904Z
LAST-MODIFIED:20220621T103904Z
UID:5712-1672423200-1672437600@hortonandchalburyvillagehall.com
SUMMARY:Pop up Pub
DESCRIPTION:FREE OF CHARGE \nBring your own bottle(s)! \nFAMILIES MORE THAN WELCOME\, THE MORE THE MERRIER! \nA friendly social evening to meet neighbours\, drink\, chat\, listen to music and play games in a friendly and relaxed atmosphere with the great views the hall offers. \n6pm – 10pm \nMusic\, pool\, table tennis\, badminton\, ball games and board games. \nFree tea and coffee available.
URL:https://hortonandchalburyvillagehall.com/event/pop-up-pub-12/
LOCATION:Horton and Chalbury Village Hall\, The Horton and Chalbury Village Hall\, Horton\, Wimborne\, Dorset\, BH21 7JA\, United Kingdom
CATEGORIES:Community
ATTACH;FMTTYPE=image/jpeg:https://hortonandchalburyvillagehall.com/wp-content/uploads/Beer-inage.jpg
END:VEVENT
BEGIN:VEVENT
DTSTART;TZID=Europe/London:20221218T143000
DTEND;TZID=Europe/London:20231217T163000
DTSTAMP:20260426T053630
CREATED:20231113T105757Z
LAST-MODIFIED:20231113T105757Z
UID:6240-1671373800-1702830600@hortonandchalburyvillagehall.com
SUMMARY:Christmas Cream Teas
DESCRIPTION:Join us for our special edition of Christmas Cream Teas. \nCome and enjoy a cream tea\, homemade cakes and sandwiches in a beautiful country setting with views of Horton Tower. \nThere will also be a hamper raffle.
URL:https://hortonandchalburyvillagehall.com/event/christmas-cream-teas-2/
LOCATION:Horton and Chalbury Village Hall\, The Horton and Chalbury Village Hall\, Horton\, Wimborne\, Dorset\, BH21 7JA\, United Kingdom
CATEGORIES:Community,Food
ATTACH;FMTTYPE=image/jpeg:https://hortonandchalburyvillagehall.com/wp-content/uploads/Christmas-Cream-Tea-Image.jpg
END:VEVENT
BEGIN:VEVENT
DTSTART;TZID=Europe/London:20221218T143000
DTEND;TZID=Europe/London:20221218T163000
DTSTAMP:20260426T053630
CREATED:20220922T111227Z
LAST-MODIFIED:20220922T111227Z
UID:5823-1671373800-1671381000@hortonandchalburyvillagehall.com
SUMMARY:Christmas Cream Teas
DESCRIPTION:Join us for our special edition of Christmas Cream Teas. \nCome and enjoy a cream tea\, homemade cakes and sandwiches in a beautiful country setting with views of Horton Tower. \nThere will also be a hamper raffle.
URL:https://hortonandchalburyvillagehall.com/event/christmas-cream-teas/
LOCATION:Horton and Chalbury Village Hall\, The Horton and Chalbury Village Hall\, Horton\, Wimborne\, Dorset\, BH21 7JA\, United Kingdom
CATEGORIES:Community,Food
ATTACH;FMTTYPE=image/jpeg:https://hortonandchalburyvillagehall.com/wp-content/uploads/Christmas-Cream-Tea-Image.jpg
END:VEVENT
BEGIN:VEVENT
DTSTART;TZID=Europe/London:20221218T090000
DTEND;TZID=Europe/London:20221218T100000
DTSTAMP:20260426T053630
CREATED:20160613T210204Z
LAST-MODIFIED:20160613T210204Z
UID:4805-1671354000-1671357600@hortonandchalburyvillagehall.com
SUMMARY:Breakfast Church
DESCRIPTION:Join us for a full English Breakfast at 9am followed by a time of worship and reflection.
URL:https://hortonandchalburyvillagehall.com/event/1479-2022-12-18/
LOCATION:Horton and Chalbury Village Hall\, The Horton and Chalbury Village Hall\, Horton\, Wimborne\, Dorset\, BH21 7JA\, United Kingdom
CATEGORIES:Church,Community,Food
ATTACH;FMTTYPE=image/jpeg:https://hortonandchalburyvillagehall.com/wp-content/uploads/2016/06/Breakfast-church.jpg
END:VEVENT
BEGIN:VEVENT
DTSTART;TZID=Europe/London:20221216T180000
DTEND;TZID=Europe/London:20221216T220000
DTSTAMP:20260426T053630
CREATED:20220621T103827Z
LAST-MODIFIED:20220621T103827Z
UID:5710-1671213600-1671228000@hortonandchalburyvillagehall.com
SUMMARY:Pop up Pub
DESCRIPTION:FREE OF CHARGE \nBring your own bottle(s)! \nFAMILIES MORE THAN WELCOME\, THE MORE THE MERRIER! \nA friendly social evening to meet neighbours\, drink\, chat\, listen to music and play games in a friendly and relaxed atmosphere with the great views the hall offers. \n6pm – 10pm \nMusic\, pool\, table tennis\, badminton\, ball games and board games. \nFree tea and coffee available.
URL:https://hortonandchalburyvillagehall.com/event/pop-up-pub-11/
LOCATION:Horton and Chalbury Village Hall\, The Horton and Chalbury Village Hall\, Horton\, Wimborne\, Dorset\, BH21 7JA\, United Kingdom
CATEGORIES:Community
ATTACH;FMTTYPE=image/jpeg:https://hortonandchalburyvillagehall.com/wp-content/uploads/Beer-inage.jpg
END:VEVENT
BEGIN:VEVENT
DTSTART;TZID=Europe/London:20221202T180000
DTEND;TZID=Europe/London:20221202T220000
DTSTAMP:20260426T053630
CREATED:20220621T103751Z
LAST-MODIFIED:20220621T103751Z
UID:5708-1670004000-1670018400@hortonandchalburyvillagehall.com
SUMMARY:Pop up Pub
DESCRIPTION:FREE OF CHARGE \nBring your own bottle(s)! \nFAMILIES MORE THAN WELCOME\, THE MORE THE MERRIER! \nA friendly social evening to meet neighbours\, drink\, chat\, listen to music and play games in a friendly and relaxed atmosphere with the great views the hall offers. \n6pm – 10pm \nMusic\, pool\, table tennis\, badminton\, ball games and board games. \nFree tea and coffee available.
URL:https://hortonandchalburyvillagehall.com/event/pop-up-pub-10/
LOCATION:Horton and Chalbury Village Hall\, The Horton and Chalbury Village Hall\, Horton\, Wimborne\, Dorset\, BH21 7JA\, United Kingdom
CATEGORIES:Community
ATTACH;FMTTYPE=image/jpeg:https://hortonandchalburyvillagehall.com/wp-content/uploads/Beer-inage.jpg
END:VEVENT
BEGIN:VEVENT
DTSTART;TZID=Europe/London:20221120T090000
DTEND;TZID=Europe/London:20221120T100000
DTSTAMP:20260426T053630
CREATED:20160613T210204Z
LAST-MODIFIED:20160613T210204Z
UID:4783-1668934800-1668938400@hortonandchalburyvillagehall.com
SUMMARY:Breakfast Church
DESCRIPTION:Join us for a full English Breakfast at 9am followed by a time of worship and reflection.
URL:https://hortonandchalburyvillagehall.com/event/1479-2022-11-20/
LOCATION:Horton and Chalbury Village Hall\, The Horton and Chalbury Village Hall\, Horton\, Wimborne\, Dorset\, BH21 7JA\, United Kingdom
CATEGORIES:Church,Community,Food
ATTACH;FMTTYPE=image/jpeg:https://hortonandchalburyvillagehall.com/wp-content/uploads/2016/06/Breakfast-church.jpg
END:VEVENT
BEGIN:VEVENT
DTSTART;TZID=Europe/London:20221104T180000
DTEND;TZID=Europe/London:20221104T220000
DTSTAMP:20260426T053630
CREATED:20220621T103638Z
LAST-MODIFIED:20220621T103638Z
UID:5704-1667584800-1667599200@hortonandchalburyvillagehall.com
SUMMARY:Pop up Pub
DESCRIPTION:FREE OF CHARGE \nBring your own bottle(s)! \nFAMILIES MORE THAN WELCOME\, THE MORE THE MERRIER! \nA friendly social evening to meet neighbours\, drink\, chat\, listen to music and play games in a friendly and relaxed atmosphere with the great views the hall offers. \n6pm – 10pm \nMusic\, pool\, table tennis\, badminton\, ball games and board games. \nFree tea and coffee available.
URL:https://hortonandchalburyvillagehall.com/event/pop-up-pub-8/
LOCATION:Horton and Chalbury Village Hall\, The Horton and Chalbury Village Hall\, Horton\, Wimborne\, Dorset\, BH21 7JA\, United Kingdom
CATEGORIES:Community
ATTACH;FMTTYPE=image/jpeg:https://hortonandchalburyvillagehall.com/wp-content/uploads/Beer-inage.jpg
END:VEVENT
BEGIN:VEVENT
DTSTART;TZID=Europe/London:20221021T180000
DTEND;TZID=Europe/London:20221021T220000
DTSTAMP:20260426T053630
CREATED:20220621T103548Z
LAST-MODIFIED:20220621T103548Z
UID:5702-1666375200-1666389600@hortonandchalburyvillagehall.com
SUMMARY:Pop up Pub
DESCRIPTION:FREE OF CHARGE \nBring your own bottle(s)! \nFAMILIES MORE THAN WELCOME\, THE MORE THE MERRIER! \nA friendly social evening to meet neighbours\, drink\, chat\, listen to music and play games in a friendly and relaxed atmosphere with the great views the hall offers. \n6pm – 10pm \nMusic\, pool\, table tennis\, badminton\, ball games and board games. \nFree tea and coffee available.
URL:https://hortonandchalburyvillagehall.com/event/pop-up-pub-7/
LOCATION:Horton and Chalbury Village Hall\, The Horton and Chalbury Village Hall\, Horton\, Wimborne\, Dorset\, BH21 7JA\, United Kingdom
CATEGORIES:Community
ATTACH;FMTTYPE=image/jpeg:https://hortonandchalburyvillagehall.com/wp-content/uploads/Beer-inage.jpg
END:VEVENT
BEGIN:VEVENT
DTSTART;TZID=Europe/London:20221016T090000
DTEND;TZID=Europe/London:20221016T100000
DTSTAMP:20260426T053630
CREATED:20160613T210204Z
LAST-MODIFIED:20160613T210204Z
UID:4763-1665910800-1665914400@hortonandchalburyvillagehall.com
SUMMARY:Breakfast Church
DESCRIPTION:Join us for a full English Breakfast at 9am followed by a time of worship and reflection.
URL:https://hortonandchalburyvillagehall.com/event/1479-2022-10-16/
LOCATION:Horton and Chalbury Village Hall\, The Horton and Chalbury Village Hall\, Horton\, Wimborne\, Dorset\, BH21 7JA\, United Kingdom
CATEGORIES:Church,Community,Food
ATTACH;FMTTYPE=image/jpeg:https://hortonandchalburyvillagehall.com/wp-content/uploads/2016/06/Breakfast-church.jpg
END:VEVENT
BEGIN:VEVENT
DTSTART;TZID=Europe/London:20220930T180000
DTEND;TZID=Europe/London:20220930T220000
DTSTAMP:20260426T053630
CREATED:20220621T094222Z
LAST-MODIFIED:20220621T094222Z
UID:5700-1664560800-1664575200@hortonandchalburyvillagehall.com
SUMMARY:Pop up Pub
DESCRIPTION:FREE OF CHARGE \nBring your own bottle(s)! \nFAMILIES MORE THAN WELCOME\, THE MORE THE MERRIER! \nA friendly social evening to meet neighbours\, drink\, chat\, listen to music and play games in a friendly and relaxed atmosphere with the great views the hall offers. \n6pm – 10pm \nMusic\, pool\, table tennis\, badminton\, ball games and board games. \nFree tea and coffee available.
URL:https://hortonandchalburyvillagehall.com/event/pop-up-pub-6/
LOCATION:Horton and Chalbury Village Hall\, The Horton and Chalbury Village Hall\, Horton\, Wimborne\, Dorset\, BH21 7JA\, United Kingdom
CATEGORIES:Community
ATTACH;FMTTYPE=image/jpeg:https://hortonandchalburyvillagehall.com/wp-content/uploads/Beer-inage.jpg
END:VEVENT
END:VCALENDAR