BEGIN:VCALENDAR
VERSION:2.0
PRODID:-//Horton and Chalbury Village Hall - ECPv6.11.2//NONSGML v1.0//EN
CALSCALE:GREGORIAN
METHOD:PUBLISH
X-WR-CALNAME:Horton and Chalbury Village Hall
X-ORIGINAL-URL:https://hortonandchalburyvillagehall.com
X-WR-CALDESC:Events for Horton and Chalbury Village Hall
REFRESH-INTERVAL;VALUE=DURATION:PT1H
X-Robots-Tag:noindex
X-PUBLISHED-TTL:PT1H
BEGIN:VTIMEZONE
TZID:Europe/London
BEGIN:DAYLIGHT
TZOFFSETFROM:+0000
TZOFFSETTO:+0100
TZNAME:BST
DTSTART:20230326T010000
END:DAYLIGHT
BEGIN:STANDARD
TZOFFSETFROM:+0100
TZOFFSETTO:+0000
TZNAME:GMT
DTSTART:20231029T010000
END:STANDARD
BEGIN:DAYLIGHT
TZOFFSETFROM:+0000
TZOFFSETTO:+0100
TZNAME:BST
DTSTART:20240331T010000
END:DAYLIGHT
BEGIN:STANDARD
TZOFFSETFROM:+0100
TZOFFSETTO:+0000
TZNAME:GMT
DTSTART:20241027T010000
END:STANDARD
END:VTIMEZONE
BEGIN:VEVENT
DTSTART;TZID=Europe/London:20240412T190000
DTEND;TZID=Europe/London:20240412T220000
DTSTAMP:20260426T024736
CREATED:20240129T152948Z
LAST-MODIFIED:20240129T152948Z
UID:6316-1712948400-1712959200@hortonandchalburyvillagehall.com
SUMMARY:Pop up Pub
DESCRIPTION:FREE OF CHARGE \nBring your own bottle(s)! \nFAMILIES MORE THAN WELCOME\, THE MORE THE MERRIER! \nA friendly social evening to meet neighbours\, drink\, chat\, listen to music and play games in a friendly and relaxed atmosphere with the great views the hall offers. \n7pm – 10pm \nMusic\, pool\, table tennis\, badminton\, ball games and board games. \nFree tea and coffee available.
URL:https://hortonandchalburyvillagehall.com/event/2024-04-19/
LOCATION:Horton and Chalbury Village Hall\, The Horton and Chalbury Village Hall\, Horton\, Wimborne\, Dorset\, BH21 7JA\, United Kingdom
CATEGORIES:Community
ATTACH;FMTTYPE=image/png:https://hortonandchalburyvillagehall.com/wp-content/uploads/Pop-Up-BYOB-Pub-Flyer-2024-1.png
END:VEVENT
BEGIN:VEVENT
DTSTART;TZID=Europe/London:20240401T143000
DTEND;TZID=Europe/London:20240401T163000
DTSTAMP:20260426T024736
CREATED:20240206T113538Z
LAST-MODIFIED:20240206T113538Z
UID:6356-1711981800-1711989000@hortonandchalburyvillagehall.com
SUMMARY:Cream Teas
DESCRIPTION:Come and enjoy a cream tea\, homemade cakes and sandwiches in a beautiful country setting with views of Horton Tower.
URL:https://hortonandchalburyvillagehall.com/event/2024-04-07/
LOCATION:Horton and Chalbury Village Hall\, The Horton and Chalbury Village Hall\, Horton\, Wimborne\, Dorset\, BH21 7JA\, United Kingdom
CATEGORIES:Community,Food
ATTACH;FMTTYPE=image/jpeg:https://hortonandchalburyvillagehall.com/wp-content/uploads/New-cream-tea-image.jpg
END:VEVENT
BEGIN:VEVENT
DTSTART;TZID=Europe/London:20240315T080000
DTEND;TZID=Europe/London:20240315T170000
DTSTAMP:20260426T024736
CREATED:20240129T154131Z
LAST-MODIFIED:20240129T154131Z
UID:6341-1710489600-1710522000@hortonandchalburyvillagehall.com
SUMMARY:Pop up Pub
DESCRIPTION:FREE OF CHARGE \nBring your own bottle(s)! \nFAMILIES MORE THAN WELCOME\, THE MORE THE MERRIER! \nA friendly social evening to meet neighbours\, drink\, chat\, listen to music and play games in a friendly and relaxed atmosphere with the great views the hall offers. \n7pm – 10pm \nMusic\, pool\, table tennis\, badminton\, ball games and board games. \nFree tea and coffee available.
URL:https://hortonandchalburyvillagehall.com/event/pop-up-pub-13-2024-03-15/
LOCATION:Horton and Chalbury Village Hall\, The Horton and Chalbury Village Hall\, Horton\, Wimborne\, Dorset\, BH21 7JA\, United Kingdom
CATEGORIES:Community
ATTACH;FMTTYPE=image/png:https://hortonandchalburyvillagehall.com/wp-content/uploads/Pop-Up-BYOB-Pub-Flyer-2024-1.png
END:VEVENT
BEGIN:VEVENT
DTSTART;TZID=Europe/London:20240310T143000
DTEND;TZID=Europe/London:20240310T163000
DTSTAMP:20260426T024736
CREATED:20240206T113957Z
LAST-MODIFIED:20240206T113957Z
UID:6354-1710081000-1710088200@hortonandchalburyvillagehall.com
SUMMARY:Cream Teas
DESCRIPTION:Come and enjoy a cream tea\, homemade cakes and sandwiches in a beautiful country setting with views of Horton Tower.
URL:https://hortonandchalburyvillagehall.com/event/cream-teas-11/
LOCATION:Horton and Chalbury Village Hall\, The Horton and Chalbury Village Hall\, Horton\, Wimborne\, Dorset\, BH21 7JA\, United Kingdom
CATEGORIES:Community,Food
ATTACH;FMTTYPE=image/jpeg:https://hortonandchalburyvillagehall.com/wp-content/uploads/New-cream-tea-image.jpg
END:VEVENT
BEGIN:VEVENT
DTSTART;TZID=Europe/London:20240216T190000
DTEND;TZID=Europe/London:20240216T220000
DTSTAMP:20260426T024736
CREATED:20240129T154131Z
LAST-MODIFIED:20240129T154131Z
UID:6242-1708110000-1708120800@hortonandchalburyvillagehall.com
SUMMARY:Pop up Pub
DESCRIPTION:FREE OF CHARGE \nBring your own bottle(s)! \nFAMILIES MORE THAN WELCOME\, THE MORE THE MERRIER! \nA friendly social evening to meet neighbours\, drink\, chat\, listen to music and play games in a friendly and relaxed atmosphere with the great views the hall offers. \n7pm – 10pm \nMusic\, pool\, table tennis\, badminton\, ball games and board games. \nFree tea and coffee available.
URL:https://hortonandchalburyvillagehall.com/event/pop-up-pub-13/
LOCATION:Horton and Chalbury Village Hall\, The Horton and Chalbury Village Hall\, Horton\, Wimborne\, Dorset\, BH21 7JA\, United Kingdom
CATEGORIES:Community
ATTACH;FMTTYPE=image/png:https://hortonandchalburyvillagehall.com/wp-content/uploads/Pop-Up-BYOB-Pub-Flyer-2024-1.png
END:VEVENT
BEGIN:VEVENT
DTSTART;TZID=Europe/London:20231229T190000
DTEND;TZID=Europe/London:20231229T220000
DTSTAMP:20260426T024736
CREATED:20230118T124744Z
LAST-MODIFIED:20230118T124744Z
UID:5934-1703876400-1703887200@hortonandchalburyvillagehall.com
SUMMARY:Pop up Pub
DESCRIPTION:FREE OF CHARGE \nBring your own bottle(s)! \nFAMILIES MORE THAN WELCOME\, THE MORE THE MERRIER! \nA friendly social evening to meet neighbours\, drink\, chat\, listen to music and play games in a friendly and relaxed atmosphere with the great views the hall offers. \n6pm – 10pm \nMusic\, pool\, table tennis\, badminton\, ball games and board games. \nFree tea and coffee available.
URL:https://hortonandchalburyvillagehall.com/event/pop-up-pub-9-2023-12-29/
LOCATION:Horton and Chalbury Village Hall\, The Horton and Chalbury Village Hall\, Horton\, Wimborne\, Dorset\, BH21 7JA\, United Kingdom
CATEGORIES:Community
ATTACH;FMTTYPE=image/jpeg:https://hortonandchalburyvillagehall.com/wp-content/uploads/Beer-inage.jpg
END:VEVENT
BEGIN:VEVENT
DTSTART;TZID=Europe/London:20231215T190000
DTEND;TZID=Europe/London:20231215T220000
DTSTAMP:20260426T024736
CREATED:20230118T124742Z
LAST-MODIFIED:20230118T124742Z
UID:5933-1702666800-1702677600@hortonandchalburyvillagehall.com
SUMMARY:Pop up Pub
DESCRIPTION:FREE OF CHARGE \nBring your own bottle(s)! \nFAMILIES MORE THAN WELCOME\, THE MORE THE MERRIER! \nA friendly social evening to meet neighbours\, drink\, chat\, listen to music and play games in a friendly and relaxed atmosphere with the great views the hall offers. \n6pm – 10pm \nMusic\, pool\, table tennis\, badminton\, ball games and board games. \nFree tea and coffee available.
URL:https://hortonandchalburyvillagehall.com/event/pop-up-pub-9-2023-12-15/
LOCATION:Horton and Chalbury Village Hall\, The Horton and Chalbury Village Hall\, Horton\, Wimborne\, Dorset\, BH21 7JA\, United Kingdom
CATEGORIES:Community
ATTACH;FMTTYPE=image/jpeg:https://hortonandchalburyvillagehall.com/wp-content/uploads/Beer-inage.jpg
END:VEVENT
BEGIN:VEVENT
DTSTART;TZID=Europe/London:20231210T143000
DTEND;TZID=Europe/London:20231210T170000
DTSTAMP:20260426T024736
CREATED:20231017T132355Z
LAST-MODIFIED:20231019T161936Z
UID:6220-1702218600-1702227600@hortonandchalburyvillagehall.com
SUMMARY:Christmas Wreath Workshop
DESCRIPTION:NOW SOLD OUT!
URL:https://hortonandchalburyvillagehall.com/event/christmas-wreath-workshop/
LOCATION:Horton and Chalbury Village Hall\, The Horton and Chalbury Village Hall\, Horton\, Wimborne\, Dorset\, BH21 7JA\, United Kingdom
CATEGORIES:Community
ATTACH;FMTTYPE=application/pdf:https://hortonandchalburyvillagehall.com/wp-content/uploads/WREATH-WORKSHOP-270920230911362.pdf
END:VEVENT
BEGIN:VEVENT
DTSTART;TZID=Europe/London:20231201T190000
DTEND;TZID=Europe/London:20231201T220000
DTSTAMP:20260426T024736
CREATED:20230118T124741Z
LAST-MODIFIED:20230118T124741Z
UID:5932-1701457200-1701468000@hortonandchalburyvillagehall.com
SUMMARY:Pop up Pub
DESCRIPTION:FREE OF CHARGE \nBring your own bottle(s)! \nFAMILIES MORE THAN WELCOME\, THE MORE THE MERRIER! \nA friendly social evening to meet neighbours\, drink\, chat\, listen to music and play games in a friendly and relaxed atmosphere with the great views the hall offers. \n6pm – 10pm \nMusic\, pool\, table tennis\, badminton\, ball games and board games. \nFree tea and coffee available.
URL:https://hortonandchalburyvillagehall.com/event/pop-up-pub-9-2023-12-01/
LOCATION:Horton and Chalbury Village Hall\, The Horton and Chalbury Village Hall\, Horton\, Wimborne\, Dorset\, BH21 7JA\, United Kingdom
CATEGORIES:Community
ATTACH;FMTTYPE=image/jpeg:https://hortonandchalburyvillagehall.com/wp-content/uploads/Beer-inage.jpg
END:VEVENT
BEGIN:VEVENT
DTSTART;TZID=Europe/London:20231117T190000
DTEND;TZID=Europe/London:20231117T220000
DTSTAMP:20260426T024736
CREATED:20230118T124739Z
LAST-MODIFIED:20230118T124739Z
UID:5931-1700247600-1700258400@hortonandchalburyvillagehall.com
SUMMARY:Pop up Pub
DESCRIPTION:FREE OF CHARGE \nBring your own bottle(s)! \nFAMILIES MORE THAN WELCOME\, THE MORE THE MERRIER! \nA friendly social evening to meet neighbours\, drink\, chat\, listen to music and play games in a friendly and relaxed atmosphere with the great views the hall offers. \n6pm – 10pm \nMusic\, pool\, table tennis\, badminton\, ball games and board games. \nFree tea and coffee available.
URL:https://hortonandchalburyvillagehall.com/event/pop-up-pub-9-2023-11-17/
LOCATION:Horton and Chalbury Village Hall\, The Horton and Chalbury Village Hall\, Horton\, Wimborne\, Dorset\, BH21 7JA\, United Kingdom
CATEGORIES:Community
ATTACH;FMTTYPE=image/jpeg:https://hortonandchalburyvillagehall.com/wp-content/uploads/Beer-inage.jpg
END:VEVENT
BEGIN:VEVENT
DTSTART;TZID=Europe/London:20231103T190000
DTEND;TZID=Europe/London:20231103T220000
DTSTAMP:20260426T024736
CREATED:20230118T124738Z
LAST-MODIFIED:20230118T124738Z
UID:5930-1699038000-1699048800@hortonandchalburyvillagehall.com
SUMMARY:Pop up Pub
DESCRIPTION:FREE OF CHARGE \nBring your own bottle(s)! \nFAMILIES MORE THAN WELCOME\, THE MORE THE MERRIER! \nA friendly social evening to meet neighbours\, drink\, chat\, listen to music and play games in a friendly and relaxed atmosphere with the great views the hall offers. \n6pm – 10pm \nMusic\, pool\, table tennis\, badminton\, ball games and board games. \nFree tea and coffee available.
URL:https://hortonandchalburyvillagehall.com/event/pop-up-pub-9-2023-11-03/
LOCATION:Horton and Chalbury Village Hall\, The Horton and Chalbury Village Hall\, Horton\, Wimborne\, Dorset\, BH21 7JA\, United Kingdom
CATEGORIES:Community
ATTACH;FMTTYPE=image/jpeg:https://hortonandchalburyvillagehall.com/wp-content/uploads/Beer-inage.jpg
END:VEVENT
BEGIN:VEVENT
DTSTART;TZID=Europe/London:20231006T190000
DTEND;TZID=Europe/London:20231006T220000
DTSTAMP:20260426T024736
CREATED:20230118T124046Z
LAST-MODIFIED:20230816T153222Z
UID:5928-1696618800-1696629600@hortonandchalburyvillagehall.com
SUMMARY:Quiz Night
DESCRIPTION:More details  to follow!
URL:https://hortonandchalburyvillagehall.com/event/pop-up-pub-9-2023-10-06/
LOCATION:Horton and Chalbury Village Hall\, The Horton and Chalbury Village Hall\, Horton\, Wimborne\, Dorset\, BH21 7JA\, United Kingdom
CATEGORIES:Community
ATTACH;FMTTYPE=image/jpeg:https://hortonandchalburyvillagehall.com/wp-content/uploads/Beer-inage.jpg
END:VEVENT
BEGIN:VEVENT
DTSTART;TZID=Europe/London:20231001T143000
DTEND;TZID=Europe/London:20231001T163000
DTSTAMP:20260426T024736
CREATED:20220803T141851Z
LAST-MODIFIED:20220803T141851Z
UID:5757-1696170600-1696177800@hortonandchalburyvillagehall.com
SUMMARY:Cream Teas
DESCRIPTION:Come and enjoy a cream tea\, homemade cakes and sandwiches in a beautiful country setting with views of Horton Tower.
URL:https://hortonandchalburyvillagehall.com/event/cream-teas-12/
LOCATION:Horton and Chalbury Village Hall\, The Horton and Chalbury Village Hall\, Horton\, Wimborne\, Dorset\, BH21 7JA\, United Kingdom
CATEGORIES:Community,Food
ATTACH;FMTTYPE=image/jpeg:https://hortonandchalburyvillagehall.com/wp-content/uploads/New-cream-tea-image.jpg
END:VEVENT
BEGIN:VEVENT
DTSTART;TZID=Europe/London:20230908T190000
DTEND;TZID=Europe/London:20230908T220000
DTSTAMP:20260426T024736
CREATED:20230118T124043Z
LAST-MODIFIED:20230118T124043Z
UID:5926-1694199600-1694210400@hortonandchalburyvillagehall.com
SUMMARY:Pop up Pub
DESCRIPTION:FREE OF CHARGE \nBring your own bottle(s)! \nFAMILIES MORE THAN WELCOME\, THE MORE THE MERRIER! \nA friendly social evening to meet neighbours\, drink\, chat\, listen to music and play games in a friendly and relaxed atmosphere with the great views the hall offers. \n6pm – 10pm \nMusic\, pool\, table tennis\, badminton\, ball games and board games. \nFree tea and coffee available.
URL:https://hortonandchalburyvillagehall.com/event/pop-up-pub-9-2023-09-08/
LOCATION:Horton and Chalbury Village Hall\, The Horton and Chalbury Village Hall\, Horton\, Wimborne\, Dorset\, BH21 7JA\, United Kingdom
CATEGORIES:Community
ATTACH;FMTTYPE=image/jpeg:https://hortonandchalburyvillagehall.com/wp-content/uploads/Beer-inage.jpg
END:VEVENT
BEGIN:VEVENT
DTSTART;TZID=Europe/London:20230903T123000
DTEND;TZID=Europe/London:20230903T160000
DTSTAMP:20260426T024736
CREATED:20220803T142107Z
LAST-MODIFIED:20230808T085046Z
UID:5759-1693744200-1693756800@hortonandchalburyvillagehall.com
SUMMARY:Village Fete
DESCRIPTION:  \n 
URL:https://hortonandchalburyvillagehall.com/event/village-fete-2/
LOCATION:Horton and Chalbury Village Hall\, The Horton and Chalbury Village Hall\, Horton\, Wimborne\, Dorset\, BH21 7JA\, United Kingdom
CATEGORIES:Community
ATTACH;FMTTYPE=application/pdf:https://hortonandchalburyvillagehall.com/wp-content/uploads/Fete-Flyer-2023.pdf
END:VEVENT
BEGIN:VEVENT
DTSTART;TZID=Europe/London:20230825T190000
DTEND;TZID=Europe/London:20230825T220000
DTSTAMP:20260426T024736
CREATED:20230118T124041Z
LAST-MODIFIED:20230118T124041Z
UID:5925-1692990000-1693000800@hortonandchalburyvillagehall.com
SUMMARY:Pop up Pub
DESCRIPTION:FREE OF CHARGE \nBring your own bottle(s)! \nFAMILIES MORE THAN WELCOME\, THE MORE THE MERRIER! \nA friendly social evening to meet neighbours\, drink\, chat\, listen to music and play games in a friendly and relaxed atmosphere with the great views the hall offers. \n6pm – 10pm \nMusic\, pool\, table tennis\, badminton\, ball games and board games. \nFree tea and coffee available.
URL:https://hortonandchalburyvillagehall.com/event/pop-up-pub-9-2023-08-25/
LOCATION:Horton and Chalbury Village Hall\, The Horton and Chalbury Village Hall\, Horton\, Wimborne\, Dorset\, BH21 7JA\, United Kingdom
CATEGORIES:Community
ATTACH;FMTTYPE=image/jpeg:https://hortonandchalburyvillagehall.com/wp-content/uploads/Beer-inage.jpg
END:VEVENT
BEGIN:VEVENT
DTSTART;TZID=Europe/London:20230820T090000
DTEND;TZID=Europe/London:20230820T100000
DTSTAMP:20260426T024736
CREATED:20160613T210204Z
LAST-MODIFIED:20160613T210204Z
UID:4985-1692522000-1692525600@hortonandchalburyvillagehall.com
SUMMARY:Breakfast Church
DESCRIPTION:Join us for a full English Breakfast at 9am followed by a time of worship and reflection.
URL:https://hortonandchalburyvillagehall.com/event/1479-2023-08-20/
LOCATION:Horton and Chalbury Village Hall\, The Horton and Chalbury Village Hall\, Horton\, Wimborne\, Dorset\, BH21 7JA\, United Kingdom
CATEGORIES:Church,Community,Food
ATTACH;FMTTYPE=image/jpeg:https://hortonandchalburyvillagehall.com/wp-content/uploads/2016/06/Breakfast-church.jpg
END:VEVENT
BEGIN:VEVENT
DTSTART;TZID=Europe/London:20230806T143000
DTEND;TZID=Europe/London:20230806T163000
DTSTAMP:20260426T024736
CREATED:20220803T141737Z
LAST-MODIFIED:20220803T141737Z
UID:5753-1691332200-1691339400@hortonandchalburyvillagehall.com
SUMMARY:Cream Teas
DESCRIPTION:Come and enjoy a cream tea\, homemade cakes and sandwiches in a beautiful country setting with views of Horton Tower.
URL:https://hortonandchalburyvillagehall.com/event/cream-teas-10/
LOCATION:Horton and Chalbury Village Hall\, The Horton and Chalbury Village Hall\, Horton\, Wimborne\, Dorset\, BH21 7JA\, United Kingdom
CATEGORIES:Community,Food
ATTACH;FMTTYPE=image/jpeg:https://hortonandchalburyvillagehall.com/wp-content/uploads/New-cream-tea-image.jpg
END:VEVENT
BEGIN:VEVENT
DTSTART;TZID=Europe/London:20230728T190000
DTEND;TZID=Europe/London:20230728T220000
DTSTAMP:20260426T024736
CREATED:20230118T124038Z
LAST-MODIFIED:20230118T124038Z
UID:5923-1690570800-1690581600@hortonandchalburyvillagehall.com
SUMMARY:Pop up Pub
DESCRIPTION:FREE OF CHARGE \nBring your own bottle(s)! \nFAMILIES MORE THAN WELCOME\, THE MORE THE MERRIER! \nA friendly social evening to meet neighbours\, drink\, chat\, listen to music and play games in a friendly and relaxed atmosphere with the great views the hall offers. \n6pm – 10pm \nMusic\, pool\, table tennis\, badminton\, ball games and board games. \nFree tea and coffee available.
URL:https://hortonandchalburyvillagehall.com/event/pop-up-pub-9-2023-07-28/
LOCATION:Horton and Chalbury Village Hall\, The Horton and Chalbury Village Hall\, Horton\, Wimborne\, Dorset\, BH21 7JA\, United Kingdom
CATEGORIES:Community
ATTACH;FMTTYPE=image/jpeg:https://hortonandchalburyvillagehall.com/wp-content/uploads/Beer-inage.jpg
END:VEVENT
BEGIN:VEVENT
DTSTART;TZID=Europe/London:20230716T090000
DTEND;TZID=Europe/London:20230716T100000
DTSTAMP:20260426T024736
CREATED:20160613T210204Z
LAST-MODIFIED:20160613T210204Z
UID:4962-1689498000-1689501600@hortonandchalburyvillagehall.com
SUMMARY:Breakfast Church
DESCRIPTION:Join us for a full English Breakfast at 9am followed by a time of worship and reflection.
URL:https://hortonandchalburyvillagehall.com/event/1479-2023-07-16/
LOCATION:Horton and Chalbury Village Hall\, The Horton and Chalbury Village Hall\, Horton\, Wimborne\, Dorset\, BH21 7JA\, United Kingdom
CATEGORIES:Church,Community,Food
ATTACH;FMTTYPE=image/jpeg:https://hortonandchalburyvillagehall.com/wp-content/uploads/2016/06/Breakfast-church.jpg
END:VEVENT
BEGIN:VEVENT
DTSTART;TZID=Europe/London:20230714T190000
DTEND;TZID=Europe/London:20230714T220000
DTSTAMP:20260426T024736
CREATED:20230118T124036Z
LAST-MODIFIED:20230118T124036Z
UID:5922-1689361200-1689372000@hortonandchalburyvillagehall.com
SUMMARY:Pop up Pub
DESCRIPTION:FREE OF CHARGE \nBring your own bottle(s)! \nFAMILIES MORE THAN WELCOME\, THE MORE THE MERRIER! \nA friendly social evening to meet neighbours\, drink\, chat\, listen to music and play games in a friendly and relaxed atmosphere with the great views the hall offers. \n6pm – 10pm \nMusic\, pool\, table tennis\, badminton\, ball games and board games. \nFree tea and coffee available.
URL:https://hortonandchalburyvillagehall.com/event/pop-up-pub-9-2023-07-14/
LOCATION:Horton and Chalbury Village Hall\, The Horton and Chalbury Village Hall\, Horton\, Wimborne\, Dorset\, BH21 7JA\, United Kingdom
CATEGORIES:Community
ATTACH;FMTTYPE=image/jpeg:https://hortonandchalburyvillagehall.com/wp-content/uploads/Beer-inage.jpg
END:VEVENT
BEGIN:VEVENT
DTSTART;TZID=Europe/London:20230702T143000
DTEND;TZID=Europe/London:20230702T163000
DTSTAMP:20260426T024736
CREATED:20230315T085703Z
LAST-MODIFIED:20230315T085703Z
UID:6037-1688308200-1688315400@hortonandchalburyvillagehall.com
SUMMARY:Cream Teas
DESCRIPTION:Come and enjoy a cream tea\, homemade cakes and sandwiches in a beautiful country setting with views of Horton Tower.
URL:https://hortonandchalburyvillagehall.com/event/cream-teas-14/
LOCATION:Horton and Chalbury Village Hall\, The Horton and Chalbury Village Hall\, Horton\, Wimborne\, Dorset\, BH21 7JA\, United Kingdom
CATEGORIES:Community,Food
ATTACH;FMTTYPE=image/jpeg:https://hortonandchalburyvillagehall.com/wp-content/uploads/New-cream-tea-image.jpg
END:VEVENT
BEGIN:VEVENT
DTSTART;TZID=Europe/London:20230630T190000
DTEND;TZID=Europe/London:20230630T220000
DTSTAMP:20260426T024736
CREATED:20230118T124034Z
LAST-MODIFIED:20230118T124034Z
UID:5921-1688151600-1688162400@hortonandchalburyvillagehall.com
SUMMARY:Pop up Pub
DESCRIPTION:FREE OF CHARGE \nBring your own bottle(s)! \nFAMILIES MORE THAN WELCOME\, THE MORE THE MERRIER! \nA friendly social evening to meet neighbours\, drink\, chat\, listen to music and play games in a friendly and relaxed atmosphere with the great views the hall offers. \n6pm – 10pm \nMusic\, pool\, table tennis\, badminton\, ball games and board games. \nFree tea and coffee available.
URL:https://hortonandchalburyvillagehall.com/event/pop-up-pub-9-2023-06-30/
LOCATION:Horton and Chalbury Village Hall\, The Horton and Chalbury Village Hall\, Horton\, Wimborne\, Dorset\, BH21 7JA\, United Kingdom
CATEGORIES:Community
ATTACH;FMTTYPE=image/jpeg:https://hortonandchalburyvillagehall.com/wp-content/uploads/Beer-inage.jpg
END:VEVENT
BEGIN:VEVENT
DTSTART;TZID=Europe/London:20230618T090000
DTEND;TZID=Europe/London:20230618T100000
DTSTAMP:20260426T024736
CREATED:20160613T210204Z
LAST-MODIFIED:20160613T210204Z
UID:4948-1687078800-1687082400@hortonandchalburyvillagehall.com
SUMMARY:Breakfast Church
DESCRIPTION:Join us for a full English Breakfast at 9am followed by a time of worship and reflection.
URL:https://hortonandchalburyvillagehall.com/event/1479-2023-06-18/
LOCATION:Horton and Chalbury Village Hall\, The Horton and Chalbury Village Hall\, Horton\, Wimborne\, Dorset\, BH21 7JA\, United Kingdom
CATEGORIES:Church,Community,Food
ATTACH;FMTTYPE=image/jpeg:https://hortonandchalburyvillagehall.com/wp-content/uploads/2016/06/Breakfast-church.jpg
END:VEVENT
BEGIN:VEVENT
DTSTART;TZID=Europe/London:20230529T143000
DTEND;TZID=Europe/London:20230529T163000
DTSTAMP:20260426T024736
CREATED:20220803T141636Z
LAST-MODIFIED:20220803T141636Z
UID:5751-1685370600-1685377800@hortonandchalburyvillagehall.com
SUMMARY:Cream Teas
DESCRIPTION:Come and enjoy a cream tea\, homemade cakes and sandwiches in a beautiful country setting with views of Horton Tower.
URL:https://hortonandchalburyvillagehall.com/event/cream-teas-9/
LOCATION:Horton and Chalbury Village Hall\, The Horton and Chalbury Village Hall\, Horton\, Wimborne\, Dorset\, BH21 7JA\, United Kingdom
CATEGORIES:Community,Food
ATTACH;FMTTYPE=image/jpeg:https://hortonandchalburyvillagehall.com/wp-content/uploads/New-cream-tea-image.jpg
END:VEVENT
BEGIN:VEVENT
DTSTART;TZID=Europe/London:20230521T090000
DTEND;TZID=Europe/London:20230521T100000
DTSTAMP:20260426T024736
CREATED:20160613T210204Z
LAST-MODIFIED:20160613T210204Z
UID:4935-1684659600-1684663200@hortonandchalburyvillagehall.com
SUMMARY:Breakfast Church
DESCRIPTION:Join us for a full English Breakfast at 9am followed by a time of worship and reflection.
URL:https://hortonandchalburyvillagehall.com/event/1479-2023-05-21/
LOCATION:Horton and Chalbury Village Hall\, The Horton and Chalbury Village Hall\, Horton\, Wimborne\, Dorset\, BH21 7JA\, United Kingdom
CATEGORIES:Church,Community,Food
ATTACH;FMTTYPE=image/jpeg:https://hortonandchalburyvillagehall.com/wp-content/uploads/2016/06/Breakfast-church.jpg
END:VEVENT
BEGIN:VEVENT
DTSTART;TZID=Europe/London:20230519T190000
DTEND;TZID=Europe/London:20230519T220000
DTSTAMP:20260426T024736
CREATED:20230118T124021Z
LAST-MODIFIED:20230118T124021Z
UID:5918-1684522800-1684533600@hortonandchalburyvillagehall.com
SUMMARY:Pop up Pub
DESCRIPTION:FREE OF CHARGE \nBring your own bottle(s)! \nFAMILIES MORE THAN WELCOME\, THE MORE THE MERRIER! \nA friendly social evening to meet neighbours\, drink\, chat\, listen to music and play games in a friendly and relaxed atmosphere with the great views the hall offers. \n6pm – 10pm \nMusic\, pool\, table tennis\, badminton\, ball games and board games. \nFree tea and coffee available.
URL:https://hortonandchalburyvillagehall.com/event/pop-up-pub-9-2023-05-19/
LOCATION:Horton and Chalbury Village Hall\, The Horton and Chalbury Village Hall\, Horton\, Wimborne\, Dorset\, BH21 7JA\, United Kingdom
CATEGORIES:Community
ATTACH;FMTTYPE=image/jpeg:https://hortonandchalburyvillagehall.com/wp-content/uploads/Beer-inage.jpg
END:VEVENT
BEGIN:VEVENT
DTSTART;TZID=Europe/London:20230501T143000
DTEND;TZID=Europe/London:20230501T163000
DTSTAMP:20260426T024736
CREATED:20220803T145205Z
LAST-MODIFIED:20220803T145205Z
UID:5784-1682951400-1682958600@hortonandchalburyvillagehall.com
SUMMARY:Cream Teas
DESCRIPTION:Come and enjoy a cream tea\, homemade cakes and sandwiches in a beautiful country setting with views of Horton Tower.
URL:https://hortonandchalburyvillagehall.com/event/cream-teas-13/
LOCATION:Horton and Chalbury Village Hall\, The Horton and Chalbury Village Hall\, Horton\, Wimborne\, Dorset\, BH21 7JA\, United Kingdom
CATEGORIES:Community,Food
ATTACH;FMTTYPE=image/jpeg:https://hortonandchalburyvillagehall.com/wp-content/uploads/New-cream-tea-image.jpg
END:VEVENT
BEGIN:VEVENT
DTSTART;TZID=Europe/London:20230421T190000
DTEND;TZID=Europe/London:20230421T220000
DTSTAMP:20260426T024736
CREATED:20230118T124017Z
LAST-MODIFIED:20230118T124017Z
UID:5916-1682103600-1682114400@hortonandchalburyvillagehall.com
SUMMARY:Pop up Pub
DESCRIPTION:FREE OF CHARGE \nBring your own bottle(s)! \nFAMILIES MORE THAN WELCOME\, THE MORE THE MERRIER! \nA friendly social evening to meet neighbours\, drink\, chat\, listen to music and play games in a friendly and relaxed atmosphere with the great views the hall offers. \n6pm – 10pm \nMusic\, pool\, table tennis\, badminton\, ball games and board games. \nFree tea and coffee available.
URL:https://hortonandchalburyvillagehall.com/event/pop-up-pub-9-2023-04-21/
LOCATION:Horton and Chalbury Village Hall\, The Horton and Chalbury Village Hall\, Horton\, Wimborne\, Dorset\, BH21 7JA\, United Kingdom
CATEGORIES:Community
ATTACH;FMTTYPE=image/jpeg:https://hortonandchalburyvillagehall.com/wp-content/uploads/Beer-inage.jpg
END:VEVENT
BEGIN:VEVENT
DTSTART;TZID=Europe/London:20230416T090000
DTEND;TZID=Europe/London:20230416T100000
DTSTAMP:20260426T024736
CREATED:20160613T210204Z
LAST-MODIFIED:20160613T210204Z
UID:4914-1681635600-1681639200@hortonandchalburyvillagehall.com
SUMMARY:Breakfast Church
DESCRIPTION:Join us for a full English Breakfast at 9am followed by a time of worship and reflection.
URL:https://hortonandchalburyvillagehall.com/event/1479-2023-04-16/
LOCATION:Horton and Chalbury Village Hall\, The Horton and Chalbury Village Hall\, Horton\, Wimborne\, Dorset\, BH21 7JA\, United Kingdom
CATEGORIES:Church,Community,Food
ATTACH;FMTTYPE=image/jpeg:https://hortonandchalburyvillagehall.com/wp-content/uploads/2016/06/Breakfast-church.jpg
END:VEVENT
END:VCALENDAR