BEGIN:VCALENDAR
VERSION:2.0
PRODID:-//Horton and Chalbury Village Hall - ECPv6.11.2//NONSGML v1.0//EN
CALSCALE:GREGORIAN
METHOD:PUBLISH
X-WR-CALNAME:Horton and Chalbury Village Hall
X-ORIGINAL-URL:https://hortonandchalburyvillagehall.com
X-WR-CALDESC:Events for Horton and Chalbury Village Hall
REFRESH-INTERVAL;VALUE=DURATION:PT1H
X-Robots-Tag:noindex
X-PUBLISHED-TTL:PT1H
BEGIN:VTIMEZONE
TZID:Europe/London
BEGIN:DAYLIGHT
TZOFFSETFROM:+0000
TZOFFSETTO:+0100
TZNAME:BST
DTSTART:20240331T010000
END:DAYLIGHT
BEGIN:STANDARD
TZOFFSETFROM:+0100
TZOFFSETTO:+0000
TZNAME:GMT
DTSTART:20241027T010000
END:STANDARD
BEGIN:DAYLIGHT
TZOFFSETFROM:+0000
TZOFFSETTO:+0100
TZNAME:BST
DTSTART:20250330T010000
END:DAYLIGHT
BEGIN:STANDARD
TZOFFSETFROM:+0100
TZOFFSETTO:+0000
TZNAME:GMT
DTSTART:20251026T010000
END:STANDARD
END:VTIMEZONE
BEGIN:VEVENT
DTSTART;TZID=Europe/London:20250803T143000
DTEND;TZID=Europe/London:20250803T163000
DTSTAMP:20260425T214606
CREATED:20250211T120226Z
LAST-MODIFIED:20250211T182500Z
UID:7302-1754231400-1754238600@hortonandchalburyvillagehall.com
SUMMARY:Village Hall Cream Teas
DESCRIPTION:
URL:https://hortonandchalburyvillagehall.com/event/village-hall-cream-teas-3/
LOCATION:Horton and Chalbury Village Hall\, The Horton and Chalbury Village Hall\, Horton\, Wimborne\, Dorset\, BH21 7JA\, United Kingdom
CATEGORIES:Community,Food
ATTACH;FMTTYPE=application/pdf:https://hortonandchalburyvillagehall.com/wp-content/uploads/Cream-Teas-Poster-2025-A4-4.pdf
END:VEVENT
BEGIN:VEVENT
DTSTART;TZID=Europe/London:20250601T143000
DTEND;TZID=Europe/London:20250601T163000
DTSTAMP:20260425T214606
CREATED:20250211T120035Z
LAST-MODIFIED:20250211T182356Z
UID:7299-1748788200-1748795400@hortonandchalburyvillagehall.com
SUMMARY:Village Hall Cream Teas
DESCRIPTION:
URL:https://hortonandchalburyvillagehall.com/event/village-hall-cream-teas-2/
LOCATION:Horton and Chalbury Village Hall\, The Horton and Chalbury Village Hall\, Horton\, Wimborne\, Dorset\, BH21 7JA\, United Kingdom
CATEGORIES:Community,Food
ATTACH;FMTTYPE=application/pdf:https://hortonandchalburyvillagehall.com/wp-content/uploads/Cream-Teas-Poster-2025-A4-3.pdf
END:VEVENT
BEGIN:VEVENT
DTSTART;TZID=Europe/London:20250511T123000
DTEND;TZID=Europe/London:20250511T150000
DTSTAMP:20260425T214606
CREATED:20250428T165600Z
LAST-MODIFIED:20250428T165600Z
UID:7467-1746966600-1746975600@hortonandchalburyvillagehall.com
SUMMARY:May Day Celebrations
DESCRIPTION:Wimborne Villages May Celebration Sunday\, May 11th 2025 \nFrom 12.30pm – 3.00pm at Horton & Chalbury Village Hall. \n*Entertainment by the Bourne Valley Morris Dancers \n*Themed craft activities for the children \n*Bring your own picnic \nAll ages welcome! FREE entry! Come along and join in the fun!
URL:https://hortonandchalburyvillagehall.com/event/may-day-celebrations/
LOCATION:Horton & Chalbury Village Hall – Main Hall\, Horton Road\, Horton\, Dorset\, BH21 7JA\, United Kingdom
CATEGORIES:Community
ATTACH;FMTTYPE=image/jpeg:https://hortonandchalburyvillagehall.com/wp-content/uploads/IMG_4548.jpg
END:VEVENT
BEGIN:VEVENT
DTSTART;TZID=Europe/London:20250505T143000
DTEND;TZID=Europe/London:20250505T163000
DTSTAMP:20260425T214606
CREATED:20250211T115601Z
LAST-MODIFIED:20250211T182229Z
UID:7296-1746455400-1746462600@hortonandchalburyvillagehall.com
SUMMARY:Village Hall Cream Teas - Bank Holiday Monday
DESCRIPTION:
URL:https://hortonandchalburyvillagehall.com/event/village-hall-cream-teas-bank-holiday-monday/
LOCATION:Horton and Chalbury Village Hall\, The Horton and Chalbury Village Hall\, Horton\, Wimborne\, Dorset\, BH21 7JA\, United Kingdom
CATEGORIES:Community,Food
ATTACH;FMTTYPE=application/pdf:https://hortonandchalburyvillagehall.com/wp-content/uploads/Cream-Teas-Poster-2025-A4-2.pdf
END:VEVENT
BEGIN:VEVENT
DTSTART;TZID=Europe/London:20250425T190000
DTEND;TZID=Europe/London:20250425T220000
DTSTAMP:20260425T214606
CREATED:20240129T154131Z
LAST-MODIFIED:20241022T070955Z
UID:6347-1745607600-1745618400@hortonandchalburyvillagehall.com
SUMMARY:Pop up Pub
DESCRIPTION:FREE OF CHARGE \nBring your own bottle(s)! \nFAMILIES MORE THAN WELCOME\, THE MORE THE MERRIER! \nA friendly social evening to meet neighbours\, drink\, chat\, listen to music and play games in a friendly and relaxed atmosphere with the great views the hall offers. \n7pm – 10pm \nMusic\, pool\, table tennis\, badminton\, ball games and board games. \nFree tea and coffee available.
URL:https://hortonandchalburyvillagehall.com/event/pop-up-pub-13-2025-02-21/
LOCATION:Horton and Chalbury Village Hall\, The Horton and Chalbury Village Hall\, Horton\, Wimborne\, Dorset\, BH21 7JA\, United Kingdom
CATEGORIES:Community
ATTACH;FMTTYPE=image/jpeg:https://hortonandchalburyvillagehall.com/wp-content/uploads/Copy-of-Pop-Up-BYOB-Pub-Flyer.jpeg
END:VEVENT
BEGIN:VEVENT
DTSTART;TZID=Europe/London:20250330T143000
DTEND;TZID=Europe/London:20250330T163000
DTSTAMP:20260425T214606
CREATED:20250211T114927Z
LAST-MODIFIED:20250211T182050Z
UID:7291-1743345000-1743352200@hortonandchalburyvillagehall.com
SUMMARY:Village Hall Cream Teas - Mothering Sunday
DESCRIPTION:
URL:https://hortonandchalburyvillagehall.com/event/village-hall-cream-teas/
LOCATION:Horton and Chalbury Village Hall\, The Horton and Chalbury Village Hall\, Horton\, Wimborne\, Dorset\, BH21 7JA\, United Kingdom
CATEGORIES:Community
ATTACH;FMTTYPE=application/pdf:https://hortonandchalburyvillagehall.com/wp-content/uploads/Cream-Teas-Poster-2025-A4-1.pdf
END:VEVENT
BEGIN:VEVENT
DTSTART;TZID=Europe/London:20250328T190000
DTEND;TZID=Europe/London:20250328T220000
DTSTAMP:20260425T214606
CREATED:20240129T154131Z
LAST-MODIFIED:20241022T070734Z
UID:6349-1743188400-1743199200@hortonandchalburyvillagehall.com
SUMMARY:Pop up Pub
DESCRIPTION:FREE OF CHARGE \nBring your own bottle(s)! \nFAMILIES MORE THAN WELCOME\, THE MORE THE MERRIER! \nA friendly social evening to meet neighbours\, drink\, chat\, listen to music and play games in a friendly and relaxed atmosphere with the great views the hall offers. \n7pm – 10pm \nFree tea and coffee available.
URL:https://hortonandchalburyvillagehall.com/event/pop-up-pub-13-2025-04-18/
LOCATION:Horton and Chalbury Village Hall\, The Horton and Chalbury Village Hall\, Horton\, Wimborne\, Dorset\, BH21 7JA\, United Kingdom
CATEGORIES:Community
ATTACH;FMTTYPE=image/jpeg:https://hortonandchalburyvillagehall.com/wp-content/uploads/Copy-of-Pop-Up-BYOB-Pub-Flyer.jpeg
END:VEVENT
BEGIN:VEVENT
DTSTART;TZID=Europe/London:20241222T143000
DTEND;TZID=Europe/London:20241222T163000
DTSTAMP:20260425T214606
CREATED:20240206T114539Z
LAST-MODIFIED:20240206T115934Z
UID:6370-1734877800-1734885000@hortonandchalburyvillagehall.com
SUMMARY:Christmas Cream Teas
DESCRIPTION:Join us for our special edition of Christmas Cream Teas. \nCome and enjoy a cream tea\, homemade cakes and sandwiches in a beautiful country setting with views of Horton Tower. \nThere will also be a hamper raffle.
URL:https://hortonandchalburyvillagehall.com/event/christmas-cream-teas-3/
LOCATION:Horton and Chalbury Village Hall\, The Horton and Chalbury Village Hall\, Horton\, Wimborne\, Dorset\, BH21 7JA\, United Kingdom
CATEGORIES:Community,Food
ATTACH;FMTTYPE=image/jpeg:https://hortonandchalburyvillagehall.com/wp-content/uploads/New-cream-tea-image.jpg
END:VEVENT
BEGIN:VEVENT
DTSTART;TZID=Europe/London:20241208T143000
DTEND;TZID=Europe/London:20241208T180000
DTSTAMP:20260425T214606
CREATED:20240925T105050Z
LAST-MODIFIED:20241205T102654Z
UID:6678-1733668200-1733680800@hortonandchalburyvillagehall.com
SUMMARY:Christmas Wreath Workshop
DESCRIPTION:Join us for an afternoon making a Christmas wreath. \nAll materials will be provided. \nPlease bring your own secateurs and gloves. \nIncludes a mince pie. \nPlease bring your own drinks and nibbles if required. \nWe will start at 2.30pm and finish whenever you are ready. \n  \n 
URL:https://hortonandchalburyvillagehall.com/event/christmas-wreath-workshop-2/
LOCATION:Horton & Chalbury Village Hall – Main Hall\, Horton Road\, Horton\, Dorset\, BH21 7JA\, United Kingdom
CATEGORIES:Community,Stick to homepage
ATTACH;FMTTYPE=application/pdf:https://hortonandchalburyvillagehall.com/wp-content/uploads/Wreath-Making-poster-updated-1.pdf
ORGANIZER;CN="Claire Robinson":MAILTO:treasurer@hortonandchalburyvillagehall.com
END:VEVENT
BEGIN:VEVENT
DTSTART;TZID=Europe/London:20241208T100000
DTEND;TZID=Europe/London:20241208T140000
DTSTAMP:20260425T214606
CREATED:20241001T122750Z
LAST-MODIFIED:20241205T102505Z
UID:6771-1733652000-1733666400@hortonandchalburyvillagehall.com
SUMMARY:Christmas Wreath Workshop
DESCRIPTION:Join us for a morning making a Christmas wreath. \nAll materials will be provided. \nPlease bring your own secateurs and gloves. \nIncludes a mince pie. \nPlease bring your own drinks and nibbles if required. \nWe will start at 10.00am and finish whenever you are ready. \n  \n 
URL:https://hortonandchalburyvillagehall.com/event/christmas-wreath-workshop-3/
LOCATION:Horton & Chalbury Village Hall – Main Hall\, Horton Road\, Horton\, Dorset\, BH21 7JA\, United Kingdom
CATEGORIES:Community,Stick to homepage
ATTACH;FMTTYPE=application/pdf:https://hortonandchalburyvillagehall.com/wp-content/uploads/Wreath-Making-poster-updated.pdf
ORGANIZER;CN="Claire Robinson":MAILTO:treasurer@hortonandchalburyvillagehall.com
END:VEVENT
BEGIN:VEVENT
DTSTART;TZID=Europe/London:20241206T190000
DTEND;TZID=Europe/London:20241206T220000
DTSTAMP:20260425T214606
CREATED:20240129T153749Z
LAST-MODIFIED:20241022T074653Z
UID:6324-1733511600-1733522400@hortonandchalburyvillagehall.com
SUMMARY:Pop up Pub
DESCRIPTION:FREE OF CHARGE \nBring your own bottle(s)! \nFAMILIES MORE THAN WELCOME\, THE MORE THE MERRIER! \nA friendly social evening to meet neighbours\, drink\, chat\, listen to music and play games in a friendly and relaxed atmosphere with the great views the hall offers. \n7pm – 10pm \nFree tea and coffee available.
URL:https://hortonandchalburyvillagehall.com/event/2024-12-20/
LOCATION:Horton and Chalbury Village Hall\, The Horton and Chalbury Village Hall\, Horton\, Wimborne\, Dorset\, BH21 7JA\, United Kingdom
CATEGORIES:Community
ATTACH;FMTTYPE=image/jpeg:https://hortonandchalburyvillagehall.com/wp-content/uploads/IMG_0786.jpeg
END:VEVENT
BEGIN:VEVENT
DTSTART;TZID=Europe/London:20241108T190000
DTEND;TZID=Europe/London:20241108T220000
DTSTAMP:20260425T214606
CREATED:20240129T153647Z
LAST-MODIFIED:20240129T153647Z
UID:6323-1731092400-1731103200@hortonandchalburyvillagehall.com
SUMMARY:Pop up Pub
DESCRIPTION:FREE OF CHARGE \nBring your own bottle(s)! \nFAMILIES MORE THAN WELCOME\, THE MORE THE MERRIER! \nA friendly social evening to meet neighbours\, drink\, chat\, listen to music and play games in a friendly and relaxed atmosphere with the great views the hall offers. \n7pm – 10pm \nMusic\, pool\, table tennis\, badminton\, ball games and board games. \nFree tea and coffee available.
URL:https://hortonandchalburyvillagehall.com/event/2024-11-15/
LOCATION:Horton and Chalbury Village Hall\, The Horton and Chalbury Village Hall\, Horton\, Wimborne\, Dorset\, BH21 7JA\, United Kingdom
CATEGORIES:Community
ATTACH;FMTTYPE=image/png:https://hortonandchalburyvillagehall.com/wp-content/uploads/Pop-Up-BYOB-Pub-Flyer-2024-1.png
END:VEVENT
BEGIN:VEVENT
DTSTART;TZID=Europe/London:20241006T143000
DTEND;TZID=Europe/London:20241006T163000
DTSTAMP:20260425T214606
CREATED:20240206T114001Z
LAST-MODIFIED:20240206T114001Z
UID:6362-1728225000-1728232200@hortonandchalburyvillagehall.com
SUMMARY:Cream Teas
DESCRIPTION:Come and enjoy a cream tea\, homemade cakes and sandwiches in a beautiful country setting with views of Horton Tower.
URL:https://hortonandchalburyvillagehall.com/event/cream-teas-11-2024-10-06/
LOCATION:Horton and Chalbury Village Hall\, The Horton and Chalbury Village Hall\, Horton\, Wimborne\, Dorset\, BH21 7JA\, United Kingdom
CATEGORIES:Community,Food
ATTACH;FMTTYPE=image/jpeg:https://hortonandchalburyvillagehall.com/wp-content/uploads/New-cream-tea-image.jpg
END:VEVENT
BEGIN:VEVENT
DTSTART;TZID=Europe/London:20241004T190000
DTEND;TZID=Europe/London:20241004T220000
DTSTAMP:20260425T214606
CREATED:20240129T153548Z
LAST-MODIFIED:20240129T153548Z
UID:6322-1728068400-1728079200@hortonandchalburyvillagehall.com
SUMMARY:Pop up Pub
DESCRIPTION:FREE OF CHARGE \nBring your own bottle(s)! \nFAMILIES MORE THAN WELCOME\, THE MORE THE MERRIER! \nA friendly social evening to meet neighbours\, drink\, chat\, listen to music and play games in a friendly and relaxed atmosphere with the great views the hall offers. \n7pm – 10pm \nMusic\, pool\, table tennis\, badminton\, ball games and board games. \nFree tea and coffee available.
URL:https://hortonandchalburyvillagehall.com/event/2024-10-18/
LOCATION:Horton and Chalbury Village Hall\, The Horton and Chalbury Village Hall\, Horton\, Wimborne\, Dorset\, BH21 7JA\, United Kingdom
CATEGORIES:Community
ATTACH;FMTTYPE=image/png:https://hortonandchalburyvillagehall.com/wp-content/uploads/Pop-Up-BYOB-Pub-Flyer-2024-1.png
END:VEVENT
BEGIN:VEVENT
DTSTART;TZID=Europe/London:20240920T190000
DTEND;TZID=Europe/London:20240920T220000
DTSTAMP:20260425T214606
CREATED:20240129T154131Z
LAST-MODIFIED:20240304T194209Z
UID:6344-1726858800-1726869600@hortonandchalburyvillagehall.com
SUMMARY:Pop up Pub
DESCRIPTION:FREE OF CHARGE \nBring your own bottle(s)! \nFAMILIES MORE THAN WELCOME\, THE MORE THE MERRIER! \nA friendly social evening to meet neighbours\, drink\, chat\, listen to music and play games in a friendly and relaxed atmosphere with the great views the hall offers. \n7pm – 10pm \nMusic\, pool\, table tennis\, badminton\, ball games and board games. \nFree tea and coffee available.
URL:https://hortonandchalburyvillagehall.com/event/pop-up-pub-13-2024-09-20/
LOCATION:Horton and Chalbury Village Hall\, The Horton and Chalbury Village Hall\, Horton\, Wimborne\, Dorset\, BH21 7JA\, United Kingdom
CATEGORIES:Community
ATTACH;FMTTYPE=image/png:https://hortonandchalburyvillagehall.com/wp-content/uploads/Pop-Up-BYOB-Pub-Flyer-2024-1.png
END:VEVENT
BEGIN:VEVENT
DTSTART;TZID=Europe/London:20240908T143000
DTEND;TZID=Europe/London:20240908T163000
DTSTAMP:20260425T214606
CREATED:20240206T113834Z
LAST-MODIFIED:20240206T113834Z
UID:6361-1725805800-1725813000@hortonandchalburyvillagehall.com
SUMMARY:Cream Teas
DESCRIPTION:Come and enjoy a cream tea\, homemade cakes and sandwiches in a beautiful country setting with views of Horton Tower.
URL:https://hortonandchalburyvillagehall.com/event/2024-09-01/
LOCATION:Horton and Chalbury Village Hall\, The Horton and Chalbury Village Hall\, Horton\, Wimborne\, Dorset\, BH21 7JA\, United Kingdom
CATEGORIES:Community,Food
ATTACH;FMTTYPE=image/jpeg:https://hortonandchalburyvillagehall.com/wp-content/uploads/New-cream-tea-image.jpg
END:VEVENT
BEGIN:VEVENT
DTSTART;TZID=Europe/London:20240906T190000
DTEND;TZID=Europe/London:20240906T220000
DTSTAMP:20260425T214606
CREATED:20240129T154020Z
LAST-MODIFIED:20240129T154020Z
UID:6327-1725649200-1725660000@hortonandchalburyvillagehall.com
SUMMARY:Pop up Pub
DESCRIPTION:FREE OF CHARGE \nBring your own bottle(s)! \nFAMILIES MORE THAN WELCOME\, THE MORE THE MERRIER! \nA friendly social evening to meet neighbours\, drink\, chat\, listen to music and play games in a friendly and relaxed atmosphere with the great views the hall offers. \n7pm – 10pm \nMusic\, pool\, table tennis\, badminton\, ball games and board games. \nFree tea and coffee available.
URL:https://hortonandchalburyvillagehall.com/event/2025-03-21/
LOCATION:Horton and Chalbury Village Hall\, The Horton and Chalbury Village Hall\, Horton\, Wimborne\, Dorset\, BH21 7JA\, United Kingdom
CATEGORIES:Community
ATTACH;FMTTYPE=image/png:https://hortonandchalburyvillagehall.com/wp-content/uploads/Pop-Up-BYOB-Pub-Flyer-2024-1.png
END:VEVENT
BEGIN:VEVENT
DTSTART;TZID=Europe/London:20240823T190000
DTEND;TZID=Europe/London:20240823T220000
DTSTAMP:20260425T214606
CREATED:20240129T153433Z
LAST-MODIFIED:20240129T153433Z
UID:6333-1724439600-1724450400@hortonandchalburyvillagehall.com
SUMMARY:Pop up Pub
DESCRIPTION:FREE OF CHARGE \nBring your own bottle(s)! \nFAMILIES MORE THAN WELCOME\, THE MORE THE MERRIER! \nA friendly social evening to meet neighbours\, drink\, chat\, listen to music and play games in a friendly and relaxed atmosphere with the great views the hall offers. \n7pm – 10pm \nMusic\, pool\, table tennis\, badminton\, ball games and board games. \nFree tea and coffee available.
URL:https://hortonandchalburyvillagehall.com/event/2024-08-16-2024-08-23/
LOCATION:Horton and Chalbury Village Hall\, The Horton and Chalbury Village Hall\, Horton\, Wimborne\, Dorset\, BH21 7JA\, United Kingdom
CATEGORIES:Community
ATTACH;FMTTYPE=image/png:https://hortonandchalburyvillagehall.com/wp-content/uploads/Pop-Up-BYOB-Pub-Flyer-2024-1.png
END:VEVENT
BEGIN:VEVENT
DTSTART;TZID=Europe/London:20240809T190000
DTEND;TZID=Europe/London:20240809T220000
DTSTAMP:20260425T214606
CREATED:20240129T153433Z
LAST-MODIFIED:20240129T153433Z
UID:6320-1723230000-1723240800@hortonandchalburyvillagehall.com
SUMMARY:Pop up Pub
DESCRIPTION:FREE OF CHARGE \nBring your own bottle(s)! \nFAMILIES MORE THAN WELCOME\, THE MORE THE MERRIER! \nA friendly social evening to meet neighbours\, drink\, chat\, listen to music and play games in a friendly and relaxed atmosphere with the great views the hall offers. \n7pm – 10pm \nMusic\, pool\, table tennis\, badminton\, ball games and board games. \nFree tea and coffee available.
URL:https://hortonandchalburyvillagehall.com/event/2024-08-16/
LOCATION:Horton and Chalbury Village Hall\, The Horton and Chalbury Village Hall\, Horton\, Wimborne\, Dorset\, BH21 7JA\, United Kingdom
CATEGORIES:Community
ATTACH;FMTTYPE=image/png:https://hortonandchalburyvillagehall.com/wp-content/uploads/Pop-Up-BYOB-Pub-Flyer-2024-1.png
END:VEVENT
BEGIN:VEVENT
DTSTART;TZID=Europe/London:20240804T143000
DTEND;TZID=Europe/London:20240804T163000
DTSTAMP:20260425T214606
CREATED:20240206T113959Z
LAST-MODIFIED:20240206T113959Z
UID:6360-1722781800-1722789000@hortonandchalburyvillagehall.com
SUMMARY:Cream Teas
DESCRIPTION:Come and enjoy a cream tea\, homemade cakes and sandwiches in a beautiful country setting with views of Horton Tower.
URL:https://hortonandchalburyvillagehall.com/event/cream-teas-11-2024-08-04/
LOCATION:Horton and Chalbury Village Hall\, The Horton and Chalbury Village Hall\, Horton\, Wimborne\, Dorset\, BH21 7JA\, United Kingdom
CATEGORIES:Community,Food
ATTACH;FMTTYPE=image/jpeg:https://hortonandchalburyvillagehall.com/wp-content/uploads/New-cream-tea-image.jpg
END:VEVENT
BEGIN:VEVENT
DTSTART;TZID=Europe/London:20240719T190000
DTEND;TZID=Europe/London:20240719T220000
DTSTAMP:20260425T214606
CREATED:20240129T154131Z
LAST-MODIFIED:20240304T194106Z
UID:6343-1721415600-1721426400@hortonandchalburyvillagehall.com
SUMMARY:Pop up Pub
DESCRIPTION:FREE OF CHARGE \nBring your own bottle(s)! \nFAMILIES MORE THAN WELCOME\, THE MORE THE MERRIER! \nA friendly social evening to meet neighbours\, drink\, chat\, listen to music and play games in a friendly and relaxed atmosphere with the great views the hall offers. \n7pm – 10pm \nMusic\, pool\, table tennis\, badminton\, ball games and board games. \nFree tea and coffee available.
URL:https://hortonandchalburyvillagehall.com/event/pop-up-pub-13-2024-07-19/
LOCATION:Horton and Chalbury Village Hall\, The Horton and Chalbury Village Hall\, Horton\, Wimborne\, Dorset\, BH21 7JA\, United Kingdom
CATEGORIES:Community
ATTACH;FMTTYPE=image/png:https://hortonandchalburyvillagehall.com/wp-content/uploads/Pop-Up-BYOB-Pub-Flyer-2024-1.png
END:VEVENT
BEGIN:VEVENT
DTSTART;TZID=Europe/London:20240707T003000
DTEND;TZID=Europe/London:20240707T163000
DTSTAMP:20260425T214606
CREATED:20240206T115205Z
LAST-MODIFIED:20240206T115205Z
UID:6372-1720312200-1720369800@hortonandchalburyvillagehall.com
SUMMARY:Village Fete
DESCRIPTION:FREE KIDS GAMES \nBooks\, CDs and DVDs|Bottle Game|Bric-a-Brac|Classic Cars|Hoopla|Local Produce|Raffle|Plants|Tombola|Tug of War Competition \nLight Lunches|Cream Teas|Homemade Cakes|BBQ|Real ale|Pimm’s Stall|  Ice Creams and Soft Drinks \nLIVE MUSIC \nFUN DOG SHOW \nPlus many more activities. \nFind us in Horton Village BH21 7JA FREE CAR PARKING
URL:https://hortonandchalburyvillagehall.com/event/village-fete-3/
LOCATION:Horton and Chalbury Village Hall\, The Horton and Chalbury Village Hall\, Horton\, Wimborne\, Dorset\, BH21 7JA\, United Kingdom
CATEGORIES:Community,Food,Music
ATTACH;FMTTYPE=image/jpeg:https://hortonandchalburyvillagehall.com/wp-content/uploads/Summr-fete.jpg
END:VEVENT
BEGIN:VEVENT
DTSTART;TZID=Europe/London:20240705T190000
DTEND;TZID=Europe/London:20240705T220000
DTSTAMP:20260425T214606
CREATED:20240129T153933Z
LAST-MODIFIED:20240129T153933Z
UID:6326-1720206000-1720216800@hortonandchalburyvillagehall.com
SUMMARY:Pop up Pub
DESCRIPTION:FREE OF CHARGE \nBring your own bottle(s)! \nFAMILIES MORE THAN WELCOME\, THE MORE THE MERRIER! \nA friendly social evening to meet neighbours\, drink\, chat\, listen to music and play games in a friendly and relaxed atmosphere with the great views the hall offers. \n7pm – 10pm \nMusic\, pool\, table tennis\, badminton\, ball games and board games. \nFree tea and coffee available.
URL:https://hortonandchalburyvillagehall.com/event/2025-02-21/
LOCATION:Horton and Chalbury Village Hall\, The Horton and Chalbury Village Hall\, Horton\, Wimborne\, Dorset\, BH21 7JA\, United Kingdom
CATEGORIES:Community
ATTACH;FMTTYPE=image/png:https://hortonandchalburyvillagehall.com/wp-content/uploads/Pop-Up-BYOB-Pub-Flyer-2024-1.png
END:VEVENT
BEGIN:VEVENT
DTSTART;TZID=Europe/London:20240621T190000
DTEND;TZID=Europe/London:20240621T220000
DTSTAMP:20260425T214606
CREATED:20240129T154131Z
LAST-MODIFIED:20240304T193955Z
UID:6342-1718996400-1719007200@hortonandchalburyvillagehall.com
SUMMARY:Pop up Pub
DESCRIPTION:FREE OF CHARGE \nBring your own bottle(s)! \nFAMILIES MORE THAN WELCOME\, THE MORE THE MERRIER! \nA friendly social evening to meet neighbours\, drink\, chat\, listen to music and play games in a friendly and relaxed atmosphere with the great views the hall offers. \n7pm – 10pm \nMusic\, pool\, table tennis\, badminton\, ball games and board games. \nFree tea and coffee available.
URL:https://hortonandchalburyvillagehall.com/event/pop-up-pub-13-2024-06-21/
LOCATION:Horton and Chalbury Village Hall\, The Horton and Chalbury Village Hall\, Horton\, Wimborne\, Dorset\, BH21 7JA\, United Kingdom
CATEGORIES:Community
ATTACH;FMTTYPE=image/png:https://hortonandchalburyvillagehall.com/wp-content/uploads/Pop-Up-BYOB-Pub-Flyer-2024-1.png
END:VEVENT
BEGIN:VEVENT
DTSTART;TZID=Europe/London:20240607T190000
DTEND;TZID=Europe/London:20240607T220000
DTSTAMP:20260425T214606
CREATED:20240129T153843Z
LAST-MODIFIED:20240129T153843Z
UID:6325-1717786800-1717797600@hortonandchalburyvillagehall.com
SUMMARY:Pop up Pub
DESCRIPTION:FREE OF CHARGE \nBring your own bottle(s)! \nFAMILIES MORE THAN WELCOME\, THE MORE THE MERRIER! \nA friendly social evening to meet neighbours\, drink\, chat\, listen to music and play games in a friendly and relaxed atmosphere with the great views the hall offers. \n7pm – 10pm \nMusic\, pool\, table tennis\, badminton\, ball games and board games. \nFree tea and coffee available.
URL:https://hortonandchalburyvillagehall.com/event/2025-01-17/
LOCATION:Horton and Chalbury Village Hall\, The Horton and Chalbury Village Hall\, Horton\, Wimborne\, Dorset\, BH21 7JA\, United Kingdom
CATEGORIES:Community
ATTACH;FMTTYPE=image/png:https://hortonandchalburyvillagehall.com/wp-content/uploads/Pop-Up-BYOB-Pub-Flyer-2024-1.png
END:VEVENT
BEGIN:VEVENT
DTSTART;TZID=Europe/London:20240602T143000
DTEND;TZID=Europe/London:20240602T163000
DTSTAMP:20260425T214606
CREATED:20240206T113957Z
LAST-MODIFIED:20240206T113957Z
UID:6358-1717338600-1717345800@hortonandchalburyvillagehall.com
SUMMARY:Cream Teas
DESCRIPTION:Come and enjoy a cream tea\, homemade cakes and sandwiches in a beautiful country setting with views of Horton Tower.
URL:https://hortonandchalburyvillagehall.com/event/cream-teas-11-2024-06-02/
LOCATION:Horton and Chalbury Village Hall\, The Horton and Chalbury Village Hall\, Horton\, Wimborne\, Dorset\, BH21 7JA\, United Kingdom
CATEGORIES:Community,Food
ATTACH;FMTTYPE=image/jpeg:https://hortonandchalburyvillagehall.com/wp-content/uploads/New-cream-tea-image.jpg
END:VEVENT
BEGIN:VEVENT
DTSTART;TZID=Europe/London:20240524T190000
DTEND;TZID=Europe/London:20240524T220000
DTSTAMP:20260425T214606
CREATED:20240129T153242Z
LAST-MODIFIED:20240129T153242Z
UID:6331-1716577200-1716588000@hortonandchalburyvillagehall.com
SUMMARY:Pop up Pub
DESCRIPTION:FREE OF CHARGE \nBring your own bottle(s)! \nFAMILIES MORE THAN WELCOME\, THE MORE THE MERRIER! \nA friendly social evening to meet neighbours\, drink\, chat\, listen to music and play games in a friendly and relaxed atmosphere with the great views the hall offers. \n7pm – 10pm \nMusic\, pool\, table tennis\, badminton\, ball games and board games. \nFree tea and coffee available.
URL:https://hortonandchalburyvillagehall.com/event/2024-05-17-2024-05-24/
LOCATION:Horton and Chalbury Village Hall\, The Horton and Chalbury Village Hall\, Horton\, Wimborne\, Dorset\, BH21 7JA\, United Kingdom
CATEGORIES:Community
ATTACH;FMTTYPE=image/png:https://hortonandchalburyvillagehall.com/wp-content/uploads/Pop-Up-BYOB-Pub-Flyer-2024-1.png
END:VEVENT
BEGIN:VEVENT
DTSTART;TZID=Europe/London:20240510T190000
DTEND;TZID=Europe/London:20240510T220000
DTSTAMP:20260425T214606
CREATED:20240129T153242Z
LAST-MODIFIED:20240129T153242Z
UID:6317-1715367600-1715378400@hortonandchalburyvillagehall.com
SUMMARY:Pop up Pub
DESCRIPTION:FREE OF CHARGE \nBring your own bottle(s)! \nFAMILIES MORE THAN WELCOME\, THE MORE THE MERRIER! \nA friendly social evening to meet neighbours\, drink\, chat\, listen to music and play games in a friendly and relaxed atmosphere with the great views the hall offers. \n7pm – 10pm \nMusic\, pool\, table tennis\, badminton\, ball games and board games. \nFree tea and coffee available.
URL:https://hortonandchalburyvillagehall.com/event/2024-05-17/
LOCATION:Horton and Chalbury Village Hall\, The Horton and Chalbury Village Hall\, Horton\, Wimborne\, Dorset\, BH21 7JA\, United Kingdom
CATEGORIES:Community
ATTACH;FMTTYPE=image/png:https://hortonandchalburyvillagehall.com/wp-content/uploads/Pop-Up-BYOB-Pub-Flyer-2024-1.png
END:VEVENT
BEGIN:VEVENT
DTSTART;TZID=Europe/London:20240506T143000
DTEND;TZID=Europe/London:20240506T163000
DTSTAMP:20260425T214606
CREATED:20240206T113653Z
LAST-MODIFIED:20240206T113653Z
UID:6357-1715005800-1715013000@hortonandchalburyvillagehall.com
SUMMARY:Cream Teas
DESCRIPTION:Come and enjoy a cream tea\, homemade cakes and sandwiches in a beautiful country setting with views of Horton Tower.
URL:https://hortonandchalburyvillagehall.com/event/2024-05-05/
LOCATION:Horton and Chalbury Village Hall\, The Horton and Chalbury Village Hall\, Horton\, Wimborne\, Dorset\, BH21 7JA\, United Kingdom
CATEGORIES:Community,Food
ATTACH;FMTTYPE=image/jpeg:https://hortonandchalburyvillagehall.com/wp-content/uploads/New-cream-tea-image.jpg
END:VEVENT
BEGIN:VEVENT
DTSTART;TZID=Europe/London:20240419T191500
DTEND;TZID=Europe/London:20240419T230000
DTSTAMP:20260425T214606
CREATED:20240226T154518Z
LAST-MODIFIED:20240409T130832Z
UID:6387-1713554100-1713567600@hortonandchalburyvillagehall.com
SUMMARY:Music Quiz Night
DESCRIPTION:Pit your knowledge against the quizmaster and identify songs\, artists\, composers and shows. \nCome and have some fun! \nIncludes fish and chip supper. \nBring your own drinks! \nTeams of six or join another table\, \nTickets are now sold out online but there may be cancellations available from Dennis Holford on 01258 840054 or Brian Wigley on 01202 824775.
URL:https://hortonandchalburyvillagehall.com/event/music-quiz-night-2/
LOCATION:Horton and Chalbury Village Hall\, The Horton and Chalbury Village Hall\, Horton\, Wimborne\, Dorset\, BH21 7JA\, United Kingdom
CATEGORIES:Community,Food,Music
ATTACH;FMTTYPE=application/pdf:https://hortonandchalburyvillagehall.com/wp-content/uploads/MUSIC-QUIZ-NIGHT-2024-07.02.24.pdf
ORGANIZER;CN="Brian Wigley":MAILTO:brian.wigley@me.com
END:VEVENT
END:VCALENDAR