BEGIN:VCALENDAR
VERSION:2.0
PRODID:-//Horton and Chalbury Village Hall - ECPv6.11.2//NONSGML v1.0//EN
CALSCALE:GREGORIAN
METHOD:PUBLISH
X-WR-CALNAME:Horton and Chalbury Village Hall
X-ORIGINAL-URL:https://hortonandchalburyvillagehall.com
X-WR-CALDESC:Events for Horton and Chalbury Village Hall
REFRESH-INTERVAL;VALUE=DURATION:PT1H
X-Robots-Tag:noindex
X-PUBLISHED-TTL:PT1H
BEGIN:VTIMEZONE
TZID:Europe/London
BEGIN:DAYLIGHT
TZOFFSETFROM:+0000
TZOFFSETTO:+0100
TZNAME:BST
DTSTART:20250330T010000
END:DAYLIGHT
BEGIN:STANDARD
TZOFFSETFROM:+0100
TZOFFSETTO:+0000
TZNAME:GMT
DTSTART:20251026T010000
END:STANDARD
END:VTIMEZONE
BEGIN:VEVENT
DTSTART;TZID=Europe/London:20250509T193000
DTEND;TZID=Europe/London:20250509T220000
DTSTAMP:20260420T000111
CREATED:20250407T070451Z
LAST-MODIFIED:20250407T071436Z
UID:7425-1746819000-1746828000@hortonandchalburyvillagehall.com
SUMMARY:Live Folk\, Country & Popular Music - Keep Off the Grass
DESCRIPTION:FREE ENTRY \nA collection will be made with all proceeds going to Horton & Chalbury Village Hall. \nBring your own drinks and nibbles. \nTo book a place please contact David Giles on 01258 841353 0r 07733 320168
URL:https://hortonandchalburyvillagehall.com/event/live-folk-country-popular-music-keep-off-the-grass/
LOCATION:Horton & Chalbury Village Hall – Main Hall\, Horton Road\, Horton\, Dorset\, BH21 7JA\, United Kingdom
ATTACH;FMTTYPE=image/jpeg:https://hortonandchalburyvillagehall.com/wp-content/uploads/IMG_4007.jpg
ORGANIZER;CN="David Giles":MAILTO:gilesrosemead@gmail.com
END:VEVENT
END:VCALENDAR