BEGIN:VCALENDAR
VERSION:2.0
PRODID:-//Horton and Chalbury Village Hall - ECPv6.11.2//NONSGML v1.0//EN
CALSCALE:GREGORIAN
METHOD:PUBLISH
X-WR-CALNAME:Horton and Chalbury Village Hall
X-ORIGINAL-URL:https://hortonandchalburyvillagehall.com
X-WR-CALDESC:Events for Horton and Chalbury Village Hall
REFRESH-INTERVAL;VALUE=DURATION:PT1H
X-Robots-Tag:noindex
X-PUBLISHED-TTL:PT1H
BEGIN:VTIMEZONE
TZID:Europe/London
BEGIN:DAYLIGHT
TZOFFSETFROM:+0000
TZOFFSETTO:+0100
TZNAME:BST
DTSTART:20250330T010000
END:DAYLIGHT
BEGIN:STANDARD
TZOFFSETFROM:+0100
TZOFFSETTO:+0000
TZNAME:GMT
DTSTART:20251026T010000
END:STANDARD
END:VTIMEZONE
BEGIN:VEVENT
DTSTART;TZID=Europe/London:20250221T190000
DTEND;TZID=Europe/London:20250221T223000
DTSTAMP:20260420T200453
CREATED:20250108T163116Z
LAST-MODIFIED:20250212T100128Z
UID:6983-1740164400-1740177000@hortonandchalburyvillagehall.com
SUMMARY:Murder Mystery Play
DESCRIPTION:Join us for an exciting evening presenting the Murder Mystery Play: \n“Who killed the holidaymaker?” \nTickets include filled jacket potato and salad. \nBring your own drinks and nibbles as required.
URL:https://hortonandchalburyvillagehall.com/event/murder-mystery-play/
LOCATION:Horton & Chalbury Village Hall – Main Hall\, Horton Road\, Horton\, Dorset\, BH21 7JA\, United Kingdom
ATTACH;FMTTYPE=application/pdf:https://hortonandchalburyvillagehall.com/wp-content/uploads/Murder-Mystery-2025-poster.pdf
ORGANIZER;CN="Dennis Holford":MAILTO:dennisholford@hotmail.co.uk
END:VEVENT
END:VCALENDAR